BEGIN:VCALENDAR
VERSION:2.0
PRODID:-//wp-events-plugin.com//7.2.3.1//EN
TZID:Europe/Berlin
X-WR-TIMEZONE:Europe/Berlin
BEGIN:VEVENT
UID:1756@frauenportal.koeln
DTSTART;TZID=Europe/Berlin:20190724T173000
DTEND;TZID=Europe/Berlin:20190724T210000
DTSTAMP:20190131T170814Z
URL:https://frauenportal.koeln/veranstaltungen/oase-am-abend-2019-07-24/
SUMMARY:Oase am Abend
DESCRIPTION:Eine Oase am Abend inmitten aller Verpflichtungen. Beruf\, Fami
 lie\, Ehrenamt nehmen viel Zeit in Anspruch und manchmal fehlt dann die Ze
 it für etwas ganz Eigenes. Die Oase am Abend soll eine "Insel der Inspira
 tion" sein und helfen auf andere Gedanken zu kommen\, Interessen zu vertie
 fen oder etwas ganz Neues kennenzulernen oder sich einfach fortzubilden. A
 lles in der angenehmen kfd-Atmosphäre unter gleichgesinnten Frauen\, die 
 einander unterstützen. Thema dieses Mal:\n\n„Hilde Domin 110 Jahre“ \
 n\nHier ist das Jahresprogramm: Oase am Abend 2019\n\nVeranstalterin:\nKat
 holische Frauengemeinschaft Deutschlands\, Diözesanverband Köln\n\nAnspr
 echpartnerin:\nFranziska Osten\, Tel.: 0221 / 1642-1385\, E-Mail: info@kfd
 -koeln.de \n\nKosten / Anmeldung:\nKeine Teilnahmebeitrag\, Spenden gerne.
  \n\nVeranstaltungsort:\nkfd-Geschäftsstelle\, An Groß St. Martin 10\, 5
 0667 Köln [map id=11641] 
END:VEVENT
BEGIN:VTIMEZONE
TZID:Europe/Berlin
X-LIC-LOCATION:Europe/Berlin
BEGIN:DAYLIGHT
DTSTART:20190331T030000
TZOFFSETFROM:+0100
TZOFFSETTO:+0200
TZNAME:CEST
END:DAYLIGHT
END:VTIMEZONE
END:VCALENDAR