BEGIN:VCALENDAR
VERSION:2.0
PRODID:-//wp-events-plugin.com//7.2.3.1//EN
TZID:Europe/Berlin
X-WR-TIMEZONE:Europe/Berlin
BEGIN:VEVENT
UID:1758@frauenportal.koeln
DTSTART;TZID=Europe/Berlin:20190905T173000
DTEND;TZID=Europe/Berlin:20190905T210000
DTSTAMP:20190131T171251Z
URL:https://frauenportal.koeln/veranstaltungen/oase-am-abend-2019-09-05/
SUMMARY:Oase am Abend
DESCRIPTION:Eine Oase am Abend inmitten aller Verpflichtungen. Beruf\, Fami
 lie\, Ehrenamt nehmen viel Zeit in Anspruch und manchmal fehlt dann die Ze
 it für etwas ganz Eigenes. Die Oase am Abend soll eine "Insel der Inspira
 tion" sein und helfen auf andere Gedanken zu kommen\, Interessen zu vertie
 fen oder etwas ganz Neues kennenzulernen oder sich einfach fortzubilden. A
 lles in der angenehmen kfd-Atmosphäre unter gleichgesinnten Frauen\, die 
 einander unterstützen. Thema dieses Mal:\n\n"Frauen und der Nationalsozia
 lismus" im NS Dokumentationszentrum Köln \n\nHier ist das Jahresprogramm:
  Oase am Abend 2019\n\nVeranstalterin:\nKatholische Frauengemeinschaft Deu
 tschlands\, Diözesanverband Köln\n\nAnsprechpartnerin:\nFranziska Osten\
 , Tel.: 0221 / 1642-1385\, E-Mail: info@kfd-koeln.de \n\nKosten / Anmeldun
 g:\nKeine Teilnahmebeitrag\, Spenden gerne. \n\nVeranstaltungsort:\nNS Dok
 umentationszentrum EL-DE-Haus\, Appellhofplatz 23\, 50667 Köln\, [map id=
 913] 
END:VEVENT
BEGIN:VTIMEZONE
TZID:Europe/Berlin
X-LIC-LOCATION:Europe/Berlin
BEGIN:DAYLIGHT
DTSTART:20190331T030000
TZOFFSETFROM:+0100
TZOFFSETTO:+0200
TZNAME:CEST
END:DAYLIGHT
END:VTIMEZONE
END:VCALENDAR