BEGIN:VCALENDAR
VERSION:2.0
PRODID:-//wp-events-plugin.com//7.2.3.1//EN
TZID:Europe/Berlin
X-WR-TIMEZONE:Europe/Berlin
BEGIN:VEVENT
UID:1760@frauenportal.koeln
DTSTART;TZID=Europe/Berlin:20191120T173000
DTEND;TZID=Europe/Berlin:20191120T210000
DTSTAMP:20190131T171357Z
URL:https://frauenportal.koeln/veranstaltungen/oase-am-abend-2019-11-20/
SUMMARY:Oase am Abend
DESCRIPTION:Eine Oase am Abend inmitten aller Verpflichtungen. Beruf\, Fami
 lie\, Ehrenamt nehmen viel Zeit in Anspruch und manchmal fehlt dann die Ze
 it für etwas ganz Eigenes. Die Oase am Abend soll eine "Insel der Inspira
 tion" sein und helfen auf andere Gedanken zu kommen\, Interessen zu vertie
 fen oder etwas ganz Neues kennenzulernen oder sich einfach fortzubilden. A
 lles in der angenehmen kfd-Atmosphäre unter gleichgesinnten Frauen\, die 
 einander unterstützen. Thema dieses Mal:\n\n"Wüstenmütter" \n\nHier ist
  das Jahresprogramm: Oase am Abend 2019\n\nVeranstalterin:\nKatholische Fr
 auengemeinschaft Deutschlands\, Diözesanverband Köln\n\nAnsprechpartneri
 n:\nFranziska Osten\, Tel.: 0221 / 1642-1385\, E-Mail: info@kfd-koeln.de \
 n\nKosten / Anmeldung:\nKeine Teilnahmebeitrag\, Spenden gerne. \n\nVerans
 taltungsort:\nkfd-Geschäftsstelle\, An Groß St. Martin 10\, 50667 Köln 
 [map id=11641] 
END:VEVENT
BEGIN:VTIMEZONE
TZID:Europe/Berlin
X-LIC-LOCATION:Europe/Berlin
BEGIN:STANDARD
DTSTART:20191027T020000
TZOFFSETFROM:+0200
TZOFFSETTO:+0100
TZNAME:CET
END:STANDARD
END:VTIMEZONE
END:VCALENDAR