BEGIN:VCALENDAR
VERSION:2.0
PRODID:-//wp-events-plugin.com//7.2.3.1//EN
TZID:Europe/Berlin
X-WR-TIMEZONE:Europe/Berlin
BEGIN:VEVENT
UID:2792@frauenportal.koeln
DTSTART;TZID=Europe/Berlin:20200701T180000
DTEND;TZID=Europe/Berlin:20200701T210000
DTSTAMP:20210104T102755Z
URL:https://frauenportal.koeln/veranstaltungen/offene-psychodrama-buehne-k
 oeln-3-2020-07-01/
SUMMARY:Offene Psychodrama-Bühne Köln
DESCRIPTION:Die „Offene Psychodrama-Bühne Köln“ bietet Ihnen die Mög
 lichkeit\, den eigenen Gefühlen nachzugehen und problematische Situatione
 n zu klären. Dies kann ein einmaliger Konflikt oder eine immer wiederkehr
 ende schwierige Situation sein.\n\nMit Gleichgesinnten und Unterstützung 
 durch Peter Wattler-Kugler und dieses Mal Alfredo Brizzolara können Sie n
 eue Erkenntnisse gewinnen und Lebensperspektiven entwickeln. Oder hinderli
 che Denk- und Handlungsmuster erkennen\, verändern und dann sukzessive in
  Ihr Leben integrieren.\n\nDie Termine für das 2. Halbjahr 2020 – immer
  mittwochs von 18.00 bis 21.00 Uhr:\n01. Juli 2020\n05. August 2020\n02. S
 eptember 2020\n07. Oktober 2020\n04. November 2020\n02. Dezember 2020\n\nK
 osten: 40 € für alle Berufstätigen\, 25 € für alle\, die sich in ei
 ner Ausbildung befinden oder arbeitssuchend sind.\n\nAnmeldung erforderlic
 h\, damit die Einhaltung der Corona-Regeln vorbereitet werden kann.\n\nOrt
 : Innovative Dienste Köln\, Neuenhöfer Allee 7\, 50937 Köln\n\nWebsite:
  www.psychodramabuehne-koeln.de\n\nWeitere Infos: Gabriele Kasper - Psycho
 therapie\, Coaching\, Weiterbildung\, Personalentwicklung
END:VEVENT
BEGIN:VTIMEZONE
TZID:Europe/Berlin
X-LIC-LOCATION:Europe/Berlin
BEGIN:DAYLIGHT
DTSTART:20200329T030000
TZOFFSETFROM:+0100
TZOFFSETTO:+0200
TZNAME:CEST
END:DAYLIGHT
END:VTIMEZONE
END:VCALENDAR