BEGIN:VCALENDAR
VERSION:2.0
PRODID:-//wp-events-plugin.com//7.2.3.1//EN
TZID:Europe/Berlin
X-WR-TIMEZONE:Europe/Berlin
BEGIN:VEVENT
UID:2797@frauenportal.koeln
DTSTART;TZID=Europe/Berlin:20201202T180000
DTEND;TZID=Europe/Berlin:20201202T210000
DTSTAMP:20210104T102810Z
URL:https://frauenportal.koeln/veranstaltungen/offene-psychodrama-buehne-k
 oeln-3-2020-12-02/
SUMMARY:Offene Psychodrama-Bühne Köln
DESCRIPTION:Die „Offene Psychodrama-Bühne Köln“ bietet Ihnen die Mög
 lichkeit\, den eigenen Gefühlen nachzugehen und problematische Situatione
 n zu klären. Dies kann ein einmaliger Konflikt oder eine immer wiederkehr
 ende schwierige Situation sein.\n\nMit Gleichgesinnten und Unterstützung 
 durch Gabriele Kasper und Peter Wattler-Kugler können Sie neue Erkenntnis
 se gewinnen und Lebensperspektiven entwickeln. Oder hinderliche Denk- und 
 Handlungsmuster erkennen\, verändern und dann sukzessive in Ihr Leben int
 egrieren.\n\nDie Termine für das 2. Halbjahr 2020 – immer mittwochs von
  18.00 bis 21.00 Uhr:\n01. Juli 2020\n05. August 2020\n02. September 2020\
 n07. Oktober 2020\n04. November 2020\n02. Dezember 2020\n\nKosten: 40 € 
 für alle Berufstätigen\, 25 € für alle\, die sich in einer Ausbildung
  befinden oder arbeitssuchend sind.\n\nAnmeldung erforderlich\, damit die 
 Einhaltung der Corona-Regeln vorbereitet werden kann.\n\nOrt: Innovative D
 ienste Köln\, Neuenhöfer Allee 7\, 50937 Köln\n\nWebsite: www.psychodra
 mabuehne-koeln.de\n\nWeitere Infos: Gabriele Kasper - Psychotherapie\, Coa
 ching\, Weiterbildung\, Personalentwicklung
END:VEVENT
BEGIN:VTIMEZONE
TZID:Europe/Berlin
X-LIC-LOCATION:Europe/Berlin
BEGIN:STANDARD
DTSTART:20201025T020000
TZOFFSETFROM:+0200
TZOFFSETTO:+0100
TZNAME:CET
END:STANDARD
END:VTIMEZONE
END:VCALENDAR