BEGIN:VCALENDAR
VERSION:2.0
PRODID:-//wp-events-plugin.com//7.2.3.1//EN
TZID:Europe/Berlin
X-WR-TIMEZONE:Europe/Berlin
BEGIN:VEVENT
UID:2919@frauenportal.koeln
DTSTART;TZID=Europe/Berlin:20210106T180000
DTEND;TZID=Europe/Berlin:20210106T210000
DTSTAMP:20210108T125537Z
URL:https://frauenportal.koeln/veranstaltungen/offene-psychodrama-buehne-k
 oeln-4-2021-01-06/
SUMMARY:Offene Psychodrama-Bühne Köln
DESCRIPTION:Die „Offene Psychodrama-Bühne Köln“ bietet Ihnen die Mög
 lichkeit\, den eigenen Gefühlen nachzugehen und problematische Situatione
 n zu klären. Dies kann ein einmaliger Konflikt oder eine immer wiederkehr
 ende schwierige Situation sein.\n\nMit Gleichgesinnten und Unterstützung 
 durch Gabriele Kasper und Peter Wattler-Kugler können Sie neue Erkenntnis
 se gewinnen und Lebensperspektiven entwickeln. Oder hinderliche Denk- und 
 Handlungsmuster erkennen\, verändern und dann sukzessive in Ihr Leben int
 egrieren.\n\nDie Termine für das 1. Halbjahr 2021 – immer mittwochs von
  18.00 bis 21.00 Uhr:\n6. Januar 2021\n3. Februar 2021\n3. März 2021\n7. 
 April 2021\n5. Mai 2021\n2. Juni 2021\n\nKosten: 40 € für alle Berufst
 ätigen\, 25 € für alle\, die sich in einer Ausbildung befinden oder ar
 beitssuchend sind. Der Beitrag wird zu Beginn der Treffen in bar gezahlt.\
 n\nAnmeldung erforderlich\, damit die Einhaltung der Corona-Regeln vorbere
 itet werden kann.\n\nOrt: online\n\nWebsite: www.psychodramabuehne-koeln.d
 e\n\nWeitere Infos: Gabriele Kasper - Psychotherapie\, Coaching\, Weiterbi
 ldung\, Personalentwicklung
END:VEVENT
BEGIN:VTIMEZONE
TZID:Europe/Berlin
X-LIC-LOCATION:Europe/Berlin
BEGIN:STANDARD
DTSTART:20201025T020000
TZOFFSETFROM:+0200
TZOFFSETTO:+0100
TZNAME:CET
END:STANDARD
END:VTIMEZONE
END:VCALENDAR