BEGIN:VCALENDAR
VERSION:2.0
PRODID:-//wp-events-plugin.com//7.2.3.1//EN
TZID:Europe/Berlin
X-WR-TIMEZONE:Europe/Berlin
BEGIN:VEVENT
UID:3343@frauenportal.koeln
DTSTART;TZID=Europe/Berlin:20211201T180000
DTEND;TZID=Europe/Berlin:20211201T210000
DTSTAMP:20211130T081038Z
URL:https://frauenportal.koeln/veranstaltungen/offene-psychodrama-buehne-k
 oeln-5-2021-12-01/
SUMMARY:Offene Psychodrama-Bühne Köln
DESCRIPTION:Der Termin findet nicht statt.Die „Offene Psychodrama-Bühne 
 Köln“ bietet Ihnen die Möglichkeit\, den eigenen Gefühlen nachzugehen
  und problematische Situationen zu klären. Dies kann ein einmaliger Konfl
 ikt oder eine immer wiederkehrende schwierige Situation sein.\n\nMit Gleic
 hgesinnten und Unterstützung durch Gabriele Kasper und Peter Wattler-Kugl
 er können Sie neue Erkenntnisse gewinnen und Lebensperspektiven entwickel
 n. Oder hinderliche Denk- und Handlungsmuster erkennen\, verändern und da
 nn sukzessive in Ihr Leben integrieren.\n\nDie Termine für das 2. Halbjah
 r 2021 – immer mittwochs von 18.00 bis 21.00 Uhr:\n8. September 2021\n6.
  Oktober 2021\n3. November 2021\n1. Dezember 2021\n\nKosten: 45 € für a
 lle Berufstätigen\, 25 € für alle\, die sich in einer Ausbildung befin
 den oder arbeitssuchend sind. Der Beitrag wird zu Beginn der Treffen in ba
 r gezahlt.\n\nAnmeldung erforderlich\, damit die Einhaltung der Corona-Reg
 eln vorbereitet werden kann.\n\nOrt: Innovative Dienste Köln\, Neuenhöfe
 r Allee 7\, 50937 Köln\n\nWebsite: www.psychodramabuehne-koeln.de\n\nWeit
 ere Infos: Gabriele Kasper - Psychotherapie\, Coaching\, Weiterbildung\, P
 ersonalentwicklung
END:VEVENT
BEGIN:VTIMEZONE
TZID:Europe/Berlin
X-LIC-LOCATION:Europe/Berlin
BEGIN:STANDARD
DTSTART:20211031T020000
TZOFFSETFROM:+0200
TZOFFSETTO:+0100
TZNAME:CET
END:STANDARD
END:VTIMEZONE
END:VCALENDAR