BEGIN:VCALENDAR
VERSION:2.0
PRODID:-//wp-events-plugin.com//7.2.3.1//EN
TZID:Europe/Berlin
X-WR-TIMEZONE:Europe/Berlin
BEGIN:VEVENT
UID:3577@frauenportal.koeln
DTSTART;TZID=Europe/Berlin:20220112T180000
DTEND;TZID=Europe/Berlin:20220112T210000
DTSTAMP:20220111T081825Z
URL:https://frauenportal.koeln/veranstaltungen/offene-psychodrama-buehne-k
 oeln-6-2022-01-12/
SUMMARY:Offene Psychodrama-Bühne Köln
DESCRIPTION:Der Termin findet nicht statt.Die „Offene Psychodrama-Bühne 
 Köln“ bietet Ihnen die Möglichkeit\, den eigenen Gefühlen nachzugehen
  und problematische Situationen zu klären. Dies kann ein einmaliger Konfl
 ikt oder eine immer wiederkehrende schwierige Situation sein.\n\nMit Gleic
 hgesinnten und Unterstützung durch Gabriele Kasper und Peter Wattler-Kugl
 er können Sie neue Erkenntnisse gewinnen und Lebensperspektiven entwickel
 n. Oder hinderliche Denk- und Handlungsmuster erkennen\, verändern und da
 nn sukzessive in Ihr Leben integrieren.\n\nDie Termine für 2022 – immer
  mittwochs von 18.00 bis 21.00 Uhr:\n12. Januar 2022\n2. Februar 2022\n9. 
 März 2022\n6. April 2022\n4. Mai 2022\n1. Juni 2022\n6. Juli 2022\n3. Aug
 ust 2022\n7. September 2022\n5. Oktober 2022\n2. Novemer 2022\n7. Dezember
  2022\n\nKosten: 45 € für alle Berufstätigen\, 25 € für alle\, die 
 sich in einer Ausbildung befinden oder arbeitssuchend sind. Der Beitrag is
 t bei virtuellen Treffen reduziert.\n\nAnmeldung erforderlich\, damit die 
 Einhaltung der Corona-Regeln vorbereitet werden kann.\n\nOrt: Innovative D
 ienste Köln\, Neuenhöfer Allee 7\, 50937 Köln\n\nWebsite: www.psychodra
 mabuehne-koeln.de\n\nWeitere Infos: Gabriele Kasper - Psychotherapie\, Coa
 ching\, Weiterbildung\, Personalentwicklung
END:VEVENT
BEGIN:VTIMEZONE
TZID:Europe/Berlin
X-LIC-LOCATION:Europe/Berlin
BEGIN:STANDARD
DTSTART:20211031T020000
TZOFFSETFROM:+0200
TZOFFSETTO:+0100
TZNAME:CET
END:STANDARD
END:VTIMEZONE
END:VCALENDAR