BEGIN:VCALENDAR
VERSION:2.0
PRODID:-//wp-events-plugin.com//7.2.3.1//EN
TZID:Europe/Berlin
X-WR-TIMEZONE:Europe/Berlin
BEGIN:VEVENT
UID:3578@frauenportal.koeln
DTSTART;TZID=Europe/Berlin:20220202T180000
DTEND;TZID=Europe/Berlin:20220202T210000
DTSTAMP:20220127T085557Z
URL:https://frauenportal.koeln/veranstaltungen/offene-psychodrama-buehne-k
 oeln-6-2022-02-02/
SUMMARY:Offene Psychodrama-Bühne Köln
DESCRIPTION:Die „Offene Psychodrama-Bühne Köln“ bietet Ihnen die Mög
 lichkeit\, den eigenen Gefühlen nachzugehen und problematische Situatione
 n zu klären. Dies kann ein einmaliger Konflikt oder eine immer wiederkehr
 ende schwierige Situation sein.\n\nMit Gleichgesinnten und Unterstützung 
 durch Gabriele Kasper und Peter Wattler-Kugler können Sie neue Erkenntnis
 se gewinnen und Lebensperspektiven entwickeln. Oder hinderliche Denk- und 
 Handlungsmuster erkennen\, verändern und dann sukzessive in Ihr Leben int
 egrieren.\n\nDie Termine für 2022 – immer mittwochs von 18.00 bis 21.00
  Uhr:\n12. Januar 2022\n2. Februar 2022\n9. März 2022\n6. April 2022\n4. 
 Mai 2022\n1. Juni 2022\n6. Juli 2022\n3. August 2022\n7. September 2022\n5
 . Oktober 2022\n2. Novemer 2022\n7. Dezember 2022\n\nKosten: 45 € für a
 lle Berufstätigen\, 25 € für alle\, die sich in einer Ausbildung befin
 den oder arbeitssuchend sind. Der Beitrag ist bei virtuellen Treffen reduz
 iert.\n\nAnmeldung erforderlich\, damit die Einhaltung der Corona-Regeln v
 orbereitet werden kann.\n\nOrt: online\n\nWebsite: www.psychodramabuehne-k
 oeln.de\n\nWeitere Infos: Gabriele Kasper - Psychotherapie\, Coaching\, We
 iterbildung\, Personalentwicklung
END:VEVENT
BEGIN:VTIMEZONE
TZID:Europe/Berlin
X-LIC-LOCATION:Europe/Berlin
BEGIN:STANDARD
DTSTART:20211031T020000
TZOFFSETFROM:+0200
TZOFFSETTO:+0100
TZNAME:CET
END:STANDARD
END:VTIMEZONE
END:VCALENDAR