BEGIN:VCALENDAR
VERSION:2.0
PRODID:-//wp-events-plugin.com//7.2.3.1//EN
TZID:Europe/Berlin
X-WR-TIMEZONE:Europe/Berlin
BEGIN:VEVENT
UID:3586@frauenportal.koeln
DTSTART;TZID=Europe/Berlin:20221003T180000
DTEND;TZID=Europe/Berlin:20221003T210000
DTSTAMP:20251230T100512Z
URL:https://frauenportal.koeln/veranstaltungen/offene-psychodrama-buehne-k
 oeln-6-2022-10-03/
SUMMARY:Offene Psychodrama-Bühne Köln
DESCRIPTION:Die „Offene Psychodrama-Bühne Köln“ bietet Ihnen die Mög
 lichkeit\, den eigenen Gefühlen nachzugehen und problematische Situatione
 n zu klären. Dies kann ein einmaliger Konflikt oder eine immer wiederkehr
 ende schwierige Situation sein.\n\nMit Gleichgesinnten und Unterstützung 
 durch Gabriele Kasper und Peter Wattler-Kugler können Sie neue Erkenntnis
 se gewinnen und Lebensperspektiven entwickeln. Oder hinderliche Denk- und 
 Handlungsmuster erkennen\, verändern und dann sukzessive in Ihr Leben int
 egrieren.\n\nDie Termine für das zweite Halbjahr 2022 – immer montags v
 on 18.00 bis 21.00 Uhr:\n5. September 2022\n3. Oktober 2022 (trotz Feierta
 g)\n7. November 2022\n5. Dezember 2022\n\nKosten: 45 € für alle Berufst
 ätigen\, 25 € für alle\, die sich in einer Ausbildung befinden oder ar
 beitssuchend sind. Der Beitrag ist bei virtuellen Treffen reduziert.\n\nAn
 meldung erforderlich.\n\nOrt: Praxis Matthias Petzold und Susanne Bourgeoi
 s\, Eifelstr. 33\, 50677 Köln\n\nWebsite: www.psychodramabuehne-koeln.de\
 n\nWeitere Infos: Gabriele Kasper - Psychotherapie\, Coaching\, Weiterbild
 ung\, Personalentwicklung
END:VEVENT
BEGIN:VTIMEZONE
TZID:Europe/Berlin
X-LIC-LOCATION:Europe/Berlin
BEGIN:DAYLIGHT
DTSTART:20220327T030000
TZOFFSETFROM:+0100
TZOFFSETTO:+0200
TZNAME:CEST
END:DAYLIGHT
END:VTIMEZONE
END:VCALENDAR