BEGIN:VCALENDAR
VERSION:2.0
PRODID:-//wp-events-plugin.com//7.2.3.1//EN
TZID:Europe/Berlin
X-WR-TIMEZONE:Europe/Berlin
BEGIN:VEVENT
UID:4657@frauenportal.koeln
DTSTART;TZID=Europe/Berlin:20241104T180000
DTEND;TZID=Europe/Berlin:20241104T210000
DTSTAMP:20241104T144441Z
URL:https://frauenportal.koeln/veranstaltungen/offene-psychodrama-buehne-k
 oeln-8-2024-11-04/
SUMMARY:Offene Psychodrama-Bühne Köln
DESCRIPTION:Der Termin findet nicht statt.Die „Offene Psychodrama-Bühne 
 Köln“ bietet Ihnen die Möglichkeit\, den eigenen Gefühlen nachzugehen
  und problematische Situationen zu klären. Dies kann ein einmaliger Konfl
 ikt oder eine immer wiederkehrende schwierige Situation sein.\n\nMit Gleic
 hgesinnten und Unterstützung durch Gabriele Kasper und Peter Wattler-Kugl
 er können Sie neue Erkenntnisse gewinnen und Lebensperspektiven entwickel
 n. Oder hinderliche Denk- und Handlungsmuster erkennen\, verändern und da
 nn sukzessive in Ihr Leben integrieren.\n\nTermine: Montags von 18.00 bis 
 21.00 Uhr\, in der Regel erster Montag im Monat\n\nKosten: 45 € für all
 e Berufstätigen\, 25 € für alle\, die sich in einer Ausbildung befinde
 n oder arbeitssuchend sind. Der Beitrag ist bei virtuellen Treffen reduzie
 rt.\n\nAnmeldung erforderlich\, Anmeldelink: www.eventbrite.de/e/einladung
 -zu-einer-begegnung-tickets-792168887467\n\nOrt: Praxis Gabriele Kasper un
 d Peter Wattler-Kugler\, Eifelstr. 33 – 50677 Köln\n\nWebsite: www.psyc
 hodramabuehne-koeln.de\n\nWeitere Infos: Gabriele Kasper - Psychotherapie\
 , Coaching\, Weiterbildung\, Personalentwicklung
END:VEVENT
BEGIN:VTIMEZONE
TZID:Europe/Berlin
X-LIC-LOCATION:Europe/Berlin
BEGIN:STANDARD
DTSTART:20241027T020000
TZOFFSETFROM:+0200
TZOFFSETTO:+0100
TZNAME:CET
END:STANDARD
END:VTIMEZONE
END:VCALENDAR