BEGIN:VCALENDAR
VERSION:2.0
PRODID:-//wp-events-plugin.com//7.2.3.1//EN
TZID:Europe/Berlin
X-WR-TIMEZONE:Europe/Berlin
BEGIN:VEVENT
UID:1626@frauenportal.koeln
DTSTART;TZID=Europe/Berlin:20190214T170000
DTEND;TZID=Europe/Berlin:20190214T183000
DTSTAMP:20181220T120357Z
URL:https://frauenportal.koeln/veranstaltungen/one-billion-rising-gemeinsa
 m-gegen-gewalt-an-frauen-und-maedchen-2/
SUMMARY:One Billion Rising - gemeinsam gegen Gewalt an Frauen und Mädchen
  
DESCRIPTION:Zentrale Kölner Veranstaltung zum weltweiten ONE BILLION RISIN
 G-Aktionstag (OBR)\n\nmit Musik\, Redebeiträgen und Informationen.\n\nSol
 idarische Menschen aus Köln und Umgebung werden wieder tanzend ein Ende d
 er Gewalt gegen Frauen* und Mädchen* fordern. Der Ebertplatz in Köln wir
 d einer von vielen tausend Orten auf der Welt sein\, wo sich zeitgleich Me
 nschen aller Nationen und Geschlechter versammeln\, um gemeinsam gegen Gew
 alt an Frauen und Mädchen einzustehen.\n\nIm Mittelpunkt steht wieder der
  gemeinsame Tanz zu den beiden Hymnen des OBR "Break the chain" und "Amazo
 n Women Rise".\n\nWer möchte\, kann auch dieses Jahr wieder an einem Tanz
 training für die „Break The Chain“-Choreographie teilnehmen.\n\nDownl
 oad: OBR Köln Plakat 2019 (pdf-Datei\, 603 KB)\n\nMehr dazu und aktuelle 
 Infos unter www.onebillionrising-koeln.de.\n\nVeranstalterinnen:\n\n 	Bün
 dnis autonomer Frauenprojekte gegen Gewalt - Lila in Köln\n 	Arbeitskreis
  Kölner Frauenvereinigungen (AKF Köln)\n 	FEMME TOTAL Netzwerk\n 	rubico
 n – Beratungszentrum für Lesben\, Schwule\, Bisexuelle\, Trans* und que
 ere Menschen\, www.rubicon-koeln.de\n 	ZORA Köln\, facebook\n\nAnsprechpa
 rtnerin:\nIrmgard Kopetzky\, Tel.: 0221 / 56 20 35\, E-Mail: mail@onebilli
 onrising-koeln.de\n\nVeranstaltungsort:\nEbertplatz\, Köln
END:VEVENT
BEGIN:VTIMEZONE
TZID:Europe/Berlin
X-LIC-LOCATION:Europe/Berlin
BEGIN:STANDARD
DTSTART:20181028T020000
TZOFFSETFROM:+0200
TZOFFSETTO:+0100
TZNAME:CET
END:STANDARD
END:VTIMEZONE
END:VCALENDAR