BEGIN:VCALENDAR
VERSION:2.0
PRODID:-//wp-events-plugin.com//7.2.3.1//EN
TZID:Europe/Berlin
X-WR-TIMEZONE:Europe/Berlin
BEGIN:VEVENT
UID:2384@frauenportal.koeln
DTSTART;TZID=Europe/Berlin:20200214T160000
DTEND;TZID=Europe/Berlin:20200214T173000
DTSTAMP:20200211T075542Z
URL:https://frauenportal.koeln/veranstaltungen/one-billion-rising-gemeinsa
 m-gegen-gewalt-an-frauen-und-maedchen-3/
SUMMARY:One Billion Rising - gemeinsam gegen Gewalt an Frauen und Mädchen
  
DESCRIPTION:Zentrale Kölner Veranstaltung zum weltweiten ONE BILLION RISIN
 G-Aktionstag (OBR)\n\nSolidarische Menschen aus Köln und Umgebung werden 
 wieder tanzend ein Ende der Gewalt gegen Frauen* und Mädchen* fordern. De
 r Alter Markt in Köln wird einer von vielen tausend Orten auf der Welt se
 in\, wo sich zeitgleich Menschen aller Nationen und Geschlechter versammel
 n\, um gemeinsam gegen Gewalt an Frauen und Mädchen einzustehen.\n\nZwisc
 hen den gemeinsamen Tänzen zu den OBR-Hymnen „Break the chain“ (Tanz 
 auf Youtube) und „Amazon Women Rise“ (Tanz auf Youtube) gibt es kurze 
 Redebeiträge zu verschiedenen aktuellen Themen\, ist eine Audio-Botschaft
  von Dr. Franziska Giffey\, Bundesministerin für Familie\, Senioren\, Fra
 uen und Jugend\, zu hören\, Maisha Moves (www.maishamoves.de) werden tanz
 en und Marie (www.marie-live.de) wird singen. Und:\n\nAuf dem Alter Markt 
 wird die WELT-URAUFFÜHRUNG der kölschen Version von „Break the Chain
 “ stattfinden!!! Es kann auch gerne mitgesungen werden – den Text gibt
  es am 14.2. vor Ort :-)\n\nWer möchte\, kann auch dieses Jahr wieder vor
 ab an einem Tanztraining für die „Break The Chain“-Choreographie teil
 nehmen. Orte und Zeiten gibt es unter www.onebillionrising-koeln.de.\n\nHi
 er ist die Einladung: OBR-Koeln-2020 (pdf-Datei\, 531 KB)\n\nVeranstalteri
 nnen:\n\n 	Bündnis autonomer Frauenprojekte gegen Gewalt - Lila in Köln\
 n 	Arbeitskreis Kölner Frauenvereinigungen (AKF Köln)\n 	FEMME TOTAL Net
 zwerk\n 	Rubicon – Beratungszentrum für Lesben\, Schwule\, Bisexuel­le
 \, Trans* und queere Menschen\, www.rubicon-koeln.de\n 	Teresa-von-Avila-H
 aus\, www.invia-koeln.de\n 	medica mondiale e.V.\n 	HOLLIE – Mädchen* v
 on Holla e.V.\n 	Intersektionales Frauen*- und Mädchen*Gesundheitszentrum
  Holla e.V.\, www.holla-ev.de\n 	ZORA Köln\, facebook.com\n\nAnsprechpart
 nerin:\nIrmgard Kopetzky\, Tel.: 0221 / 56 20 35\, E-Mail: mail@onebillion
 rising-koeln.de\n\nVeranstaltungsort:\nAlter Markt\, Köln
END:VEVENT
BEGIN:VTIMEZONE
TZID:Europe/Berlin
X-LIC-LOCATION:Europe/Berlin
BEGIN:STANDARD
DTSTART:20191027T020000
TZOFFSETFROM:+0200
TZOFFSETTO:+0100
TZNAME:CET
END:STANDARD
END:VTIMEZONE
END:VCALENDAR