BEGIN:VCALENDAR
VERSION:2.0
PRODID:-//wp-events-plugin.com//7.2.3.1//EN
TZID:Europe/Berlin
X-WR-TIMEZONE:Europe/Berlin
BEGIN:VEVENT
UID:3159@frauenportal.koeln
DTSTART;TZID=Europe/Berlin:20210214T150000
DTEND;TZID=Europe/Berlin:20210214T163000
DTSTAMP:20210212T101557Z
URL:https://frauenportal.koeln/veranstaltungen/one-billion-rising-gemeinsa
 m-gegen-gewalt-an-frauen-und-maedchen-4/
SUMMARY:One Billion Rising - gemeinsam gegen Gewalt an Frauen und Mädchen
DESCRIPTION:Zentrale Kölner Veranstaltung zum weltweiten ONE BILLION RISIN
 G-Aktionstag (OBR)\n\nSolidarische Menschen aus Köln und Umgebung werden 
 wieder ein Ende der Gewalt gegen Frauen* und Mädchen* fordern. Der Kölne
 r Neumarkt wird einer von vielen tausend Orten auf der Welt sein\, wo sich
  zeitgleich Menschen aller Nationen und Geschlechter versammeln\, um gemei
 nsam gegen Gewalt an Frauen* und Mädchen* einzustehen.\n\nGerade in der Z
 eit der Pandemie ist es wichtig\, mit diesem Thema auf den Straßen und in
  der Mitte unserer Stadt präsent zu sein. So sollen die vielen Formen der
  Gewalt\, die im Lockdown vermehrt hinter verschlossenen Türen und auch i
 m digitalen Raum stattfinden\, sichtbar gemacht werden.\n\nEs wird eine Ku
 ndgebung mit verschiedenen\, kurzen Redebeiträgen sowie Live-Musik und ge
 meinsamen\, coronagerechten Bewegungen zu der OBR-Hymne „Break the Chain
 “ in verschiedenen Sprachen – auch wieder op kölsch: „Spreng dinge 
 Ketten“ mit der Sängerin Marie. (www.marie-live.de). \n\nHier ist die E
 inladung: OBR Köln Plakat 2021 (pdf-Datei\, 621 KB)\n\nSelbstverständlic
 h werden wirksame Vorkehrungen zum Infektionsschutz getroffen.\n\nAktuelle
  Infos zur Veranstaltung unter: www.onebillionrising-koeln.de\n\nVeranstal
 terinnen:\n\n 	Bündnis autonomer Frauenprojekte gegen Gewalt - Lila in K
 öln\n 	Arbeitskreis Kölner Frauenvereinigungen (AKF Köln)\n 	FEMME TOTA
 L Netzwerk\n 	Rubicon – Beratungszentrum für Lesben\, Schwule\, Bisexue
 l­le\, Trans* und queere Menschen\, www.rubicon-koeln.de\n 	Teresa-von-Av
 ila-Haus\, www.invia-koeln.de\n 	medica mondiale e.V.\n\nAnsprechpartnerin
 :\nIrmgard Kopetzky\, Tel.: 0221 / 56 20 35\, E-Mail: mail@onebillionrisin
 g-koeln.de\n\nVeranstaltungsort:\nNeumarkt\, 50667 Köln
END:VEVENT
BEGIN:VTIMEZONE
TZID:Europe/Berlin
X-LIC-LOCATION:Europe/Berlin
BEGIN:STANDARD
DTSTART:20201025T020000
TZOFFSETFROM:+0200
TZOFFSETTO:+0100
TZNAME:CET
END:STANDARD
END:VTIMEZONE
END:VCALENDAR