BEGIN:VCALENDAR
VERSION:2.0
PRODID:-//wp-events-plugin.com//7.2.3.1//EN
TZID:Europe/Berlin
X-WR-TIMEZONE:Europe/Berlin
BEGIN:VEVENT
UID:4553@frauenportal.koeln
DTSTART;TZID=Europe/Berlin:20240214T170000
DTEND;TZID=Europe/Berlin:20240214T183000
DTSTAMP:20240119T101822Z
URL:https://frauenportal.koeln/veranstaltungen/one-billion-rising-gemeinsa
 m-gegen-gewalt-an-frauen-und-maedchen-7/
SUMMARY:One Billion Rising - gemeinsam gegen Gewalt an Frauen und Mädchen
DESCRIPTION:Zentrale Kölner Veranstaltung zum weltweiten ONE BILLION RISIN
 G-Aktionstag (OBR)\n\nZum 12. Mal werden sich solidarische Menschen aus K
 öln und Umgebung zusammen mit Millionen Anderen auf der ganzen Welt erheb
 en und gemeinsam zur OBR-Hymne „Break the Chain“ gegen Gewalt an Fraue
 n* und Mädchen* tanzen.\n\nAußerdem wird es einige Redebeiträge und Liv
 e-Musik geben von zwei Bubs.-Mitgliedern\, Nata Galaktika\, den Queerelas 
 und natürlich Marie Enganemben\, die wieder die kölsche Version „Spren
 g dinge Ketten“ singen wird.\n\nHier ist das Plakat: OBR Köln 2024 Plak
 at (pdf-Datei\, 527 KB)\n\nAktuelle Infos zur Veranstaltung unter: www.one
 billionrising-koeln.de\n\nVeranstalterinnen:\n\n 	Bündnis autonomer Fraue
 nprojekte gegen Gewalt - Lila in Köln\n 	Arbeitskreis Kölner Frauenverei
 nigungen (AKF Köln)\n 	FEMME TOTAL Netzwerk\nTeresa-von-Avila-Haus\, www.
 invia-koeln.de\nFAIR.STÄRKEN e.V.\, www.fairstaerken.de\n 	Rubicon – Be
 ratungszentrum für Lesben\, Schwule\, Bisexuel­le\, Trans* und queere Me
 nschen\, www.rubicon-koeln.de 	\n 	medica mondiale e.V.\n\nAnsprechpartner
 in:\nIrmgard Kopetzky\, Tel.: 0221 / 56 20 35\, E-Mail: mail@onebillionris
 ing-koeln.de\n\nVeranstaltungsort:\nChlodwigplatz\, 50678 Köln
END:VEVENT
BEGIN:VTIMEZONE
TZID:Europe/Berlin
X-LIC-LOCATION:Europe/Berlin
BEGIN:STANDARD
DTSTART:20231029T020000
TZOFFSETFROM:+0200
TZOFFSETTO:+0100
TZNAME:CET
END:STANDARD
END:VTIMEZONE
END:VCALENDAR