BEGIN:VCALENDAR
VERSION:2.0
PRODID:-//wp-events-plugin.com//7.2.3.1//EN
TZID:Europe/Berlin
X-WR-TIMEZONE:Europe/Berlin
BEGIN:VEVENT
UID:6069@frauenportal.koeln
DTSTART;TZID=Europe/Berlin:20260214T133000
DTEND;TZID=Europe/Berlin:20260214T153000
DTSTAMP:20260212T094226Z
URL:https://frauenportal.koeln/veranstaltungen/one-billion-rising-gemeinsa
 m-gegen-gewalt-an-frauen-und-maedchen-9/
SUMMARY:One Billion Rising - gemeinsam gegen Gewalt an Frauen und Mädchen
DESCRIPTION:Zum 14. Mal werden solidarische Menschen aus Köln und Umgebung
  zusammen mit Millionen Anderen auf der ganzen Welt auf die Straße gehen 
 und gemeinsam zur OBR-Hymne „Break the Chain“ gegen Gewalt an Frauen* 
 und Mädchen* tanzen.\n\nWeil dieses Jahr der 14. Februar auf Karnevalssam
 stag fällt\, kann es kein OBR-Event mit Bühne auf einem der Kölner Plä
 tze geben.\n\nDaher geht eine Gruppe von OBR-Aktiven im Kalker Zug mit:\nV
 eedelszoch 2026 Kalk & Humboldt-Gremberg\nMehr dazu: nur-ein-karnevalsvere
 in.de\n\nIm Zoch wird mit karnevalistischen Mitteln auf die internationale
 n Forderungen aufmerksam gemacht. Auch hier wird zu „Break the Chain“ 
 und anderen OBR-Songs getanzt – und sich mit dem Wurfmaterial ganz klar 
 gegen patriarchale Gewalt positioniert: \nmer dun et för Kölle !!\n\nGeb
 raucht werden zahlreiche Unterstützer:innen am Zugweg !!\n\nAktuelle Info
 s zur Veranstaltung unter: www.onebillionrising-koeln.de\n\nVeranstalterin
 nen:\n\n 	Bündnis autonomer Frauenprojekte gegen Gewalt - Lila in Köln\n
  	Arbeitskreis Kölner Frauenvereinigungen (AKF Köln)\n 	FEMME TOTAL Netz
 werk\nTeresa-von-Avila-Haus\, www.invia-koeln.de\nFAIR.STÄRKEN e.V.\, www
 .fairstaerken.de\n\nAnsprechpartnerin:\nIrmgard Kopetzky\, Tel.: 0221 / 56
  20 35\, E-Mail: mail@onebillionrising-koeln.de\n
END:VEVENT
BEGIN:VTIMEZONE
TZID:Europe/Berlin
X-LIC-LOCATION:Europe/Berlin
BEGIN:STANDARD
DTSTART:20251026T020000
TZOFFSETFROM:+0200
TZOFFSETTO:+0100
TZNAME:CET
END:STANDARD
END:VTIMEZONE
END:VCALENDAR