BEGIN:VCALENDAR
VERSION:2.0
PRODID:-//wp-events-plugin.com//7.2.3.1//EN
TZID:Europe/Berlin
X-WR-TIMEZONE:Europe/Berlin
BEGIN:VEVENT
UID:853@frauenportal.koeln
DTSTART;TZID=Europe/Berlin:20180214T170000
DTEND;TZID=Europe/Berlin:20180214T183000
DTSTAMP:20180117T103910Z
URL:https://frauenportal.koeln/veranstaltungen/one-billion-rising-gemeinsa
 m-gegen-gewalt-an-frauen-und-maedchen/
SUMMARY:One Billion Rising - gemeinsam gegen Gewalt an Frauen und Mädchen
  
DESCRIPTION:Zentrale Kölner Veranstaltung zum weltweiten ONE BILLION RISIN
 G-Aktionstag (OBR)\n\nmit Leah Leaf (Poetry Slam)\, den Queerelas (Frauens
 ambagruppe) und JaMilah&HaDaya (Gesang) – Musik\, Redebeiträgen und Inf
 ormationen.\n\nSolidarische Menschen aus Köln und Umgebung werden wieder 
 tanzend ein Ende der Gewalt gegen Frauen* und Mädchen* fordern. Der Wiene
 r Platz in Köln wird einer von vielen tausend Orten auf der Welt sein\, w
 o sich zeitgleich Menschen aller Nationen und Geschlechter versammeln\, um
  gemeinsam gegen Gewalt an Frauen und Mädchen einzustehen.\n\nIm Mittelpu
 nkt steht wieder der gemeinsame Tanz zu den beiden Hymnen des OBR "Break t
 he chain" und "Amazon Women Rise".\n\nWer möchte\, kann auch dieses Jahr 
 wieder an einem Tanztraining für die „Break The Chain“-Choreographie 
 teilnehmen\, es stehen 3 Angebote zur Wahl\, www.onebillionrising-koeln.de
 \n\nIn diesem Jahr neu ist der Video-Aufruf: Köln tanzt gegen Gewalt an F
 rauen und Mädchen:\n\n"Macht ein Video\, wie Ihr – auf der Arbeit\, in 
 der Uni\, mit der WG\, dem Sportverein etc. – „Break The Chain“ tanz
 t! Wir fügen Ausschnitte aus den Einsendungen zu Videos zusammen und zeig
 en diese am 14. Februar per Beamer auf dem Wiener Platz – und natürlich
  im Internet." \n\nMehr dazu und aktuelle Infos unter www.onebillionrising
 -koeln.de.\n\nVeranstalterinnen:\n\n 	Bündnis autonomer Frauenprojekte ge
 gen Gewalt - Lila in Köln\n 	Arbeitskreis Kölner Frauenvereinigungen (AK
 F Köln)\n 	FEMME TOTAL Netzwerk\n        ZORA Köln\, facebook\n        S
 usan Nabila - Orientalischer Tanz im Kölner Süden\, www.susannabila.de\n
 \nAnsprechpartnerin:\nIrmgard Kopetzky\, Tel.: 0221 / 56 20 35\, E-Mail: m
 ail@onebillionrising-koeln.de\n\nVeranstaltungsort:\nWiener Platz\, Köln
END:VEVENT
BEGIN:VTIMEZONE
TZID:Europe/Berlin
X-LIC-LOCATION:Europe/Berlin
BEGIN:STANDARD
DTSTART:20171029T020000
TZOFFSETFROM:+0200
TZOFFSETTO:+0100
TZNAME:CET
END:STANDARD
END:VTIMEZONE
END:VCALENDAR