BEGIN:VCALENDAR
VERSION:2.0
PRODID:-//wp-events-plugin.com//7.2.3.1//EN
TZID:Europe/Berlin
X-WR-TIMEZONE:Europe/Berlin
BEGIN:VEVENT
UID:3693@frauenportal.koeln
DTSTART;TZID=Europe/Berlin:20220308T160000
DTEND;TZID=Europe/Berlin:20220308T183000
DTSTAMP:20241115T125239Z
URL:https://frauenportal.koeln/veranstaltungen/online-feier-zum-internatio
 nalen-frauentag-fuenfjaehrigen-bestehen-der-kurse-von-akad-fm-fm-und-nowro
 oz/
SUMMARY:(IFT) Online-Feier zum Tnternationalen Frauentag\, fünfjährigen B
 estehen der Kurse von AKAD FM-FM und Nowrooz
DESCRIPTION:Grußworte von:\nFrau Sabine Stiller\, Bezirksbürgermeisterin 
 Köln-Porz\,\nFrau Prof. Dr. Ruth Hagengruber\, Vizepräsidentin vom Deuts
 chen Akademikerinnen Bund e.V.\,\nFrau Prof. Dr. Helene Götschel\, Vorsta
 ndsmitglied vom Frauen in Naturwissenschaft und Technik NUT e.V.\,\n\nVors
 tellung von AKAD FM-FM\, Frau Dr. Afsar Sattari\,\n\nVideos von Ei-Dekorat
 ionen zu Ostern und Nowrooz\,\nMusik von 9 Nationen innerhalb von AKAD FM-
 FM u.v.m.\n\nHier ist die Einladung mit Zoom-Zugangsdaten: Flyer-08-03-202
 2-AKAD-FMFM (pdf-Datei\, 859 KB)\n\nVeranstalterin:\nArbeitsgruppe der Aka
 demikerinnen in Menschenrechte-Einundzwanzig e.V.\, http://akadfmfm-mensch
 enrechte21ev.com\nFrauen in Naturwissenschaft und Technik NUT e.V.\, www.n
 ut.de\n\nAnsprechpartnerin:\nAfsar Soheila Sattari\, Tel.: 0178 / 6357200\
 , E-Mail: a.sattari@goal-epmts.de\n\nVeranstaltungsort:\nonline
END:VEVENT
BEGIN:VTIMEZONE
TZID:Europe/Berlin
X-LIC-LOCATION:Europe/Berlin
BEGIN:STANDARD
DTSTART:20211031T020000
TZOFFSETFROM:+0200
TZOFFSETTO:+0100
TZNAME:CET
END:STANDARD
END:VTIMEZONE
END:VCALENDAR