BEGIN:VCALENDAR
VERSION:2.0
PRODID:-//wp-events-plugin.com//7.2.3.1//EN
TZID:Europe/Berlin
X-WR-TIMEZONE:Europe/Berlin
BEGIN:VEVENT
UID:1924@frauenportal.koeln
DTSTART;TZID=Europe/Berlin:20190606T183000
DTEND;TZID=Europe/Berlin:20190606T204500
DTSTAMP:20190527T071604Z
URL:https://frauenportal.koeln/veranstaltungen/online-fundraising-fuer-sta
 rke-frauen/
SUMMARY:Online-Fundraising für starke Frauen
DESCRIPTION:Es gibt viele Projekte und Organisationen\, die einen Beitrag z
 u mehr Chancengleichheit von Mädchen und Frauen leisten.  Diese sind sehr
  wichtig\, weil sie oft strukturell ansetzen\, nur fehlt ihnen häufig Gel
 d. An diesem Abend ist zu erfahren\, wie wir dazu beitragen können\, dass
  diese Arbeit auch die finanzielle Unterstützung bekommt\, die sie verdie
 nt. \n\nMit Hilfe von Deutschlands größter Spendenplattform betterplace.
 org kann jede von uns ohne viel Aufwand aktiv werden. Kölner BotschafterI
 nnen von betterplace.org werden anwesend sein und einen Blick auf die viel
 en Möglichkeiten des Online-Fundraising erlauben. Jessica Espinoza berich
 tet von ihren konkreten Erfahrungen mit betterplace im Projekt „Raus aus
  der Gewalt – Empowerment  für Mädchen & Frauen in Nicaragua“ von Te
 rre des Femmes e.V. und warum sie davon überzeugt ist. \n\nAblauf:\n18:30
 h            Ankunft und Begrüßung\n19:00-20:00h  Vortrag und Diskussion
 \n20:00-20:45h Netzwerken und Ausklang\n\nReferentinnen:\nBotschafterinnen
  von www.betterplace.org\nJessica Espinoza\, ehrenamtliche Empowerment-Exp
 ertin bei Terre des Femmes e.V. \n\nVeranstalterinnen:\nBPW Germany Club K
 öln\n\nAnsprechpartnerin:\nJessica Espinoza\, Tel.: 0152 / 36989084\, E-M
 ail: bpw-koeln@web.de\n\nKosten / Anmeldung:\nDie Teilnahme an der Veranst
 altung ist für Mitglieder wie üblich über den Mitgliedsbeitrag gedeckt\
 ; Interessentinnen zahlen 15 Euro.\n\nVeranstaltungsort:\nTagungs- und Gä
 stehaus St.Georg\, Rolandstr. 61\, 50677 Köln\, [map id=995]
END:VEVENT
BEGIN:VTIMEZONE
TZID:Europe/Berlin
X-LIC-LOCATION:Europe/Berlin
BEGIN:DAYLIGHT
DTSTART:20190331T030000
TZOFFSETFROM:+0100
TZOFFSETTO:+0200
TZNAME:CEST
END:DAYLIGHT
END:VTIMEZONE
END:VCALENDAR