BEGIN:VCALENDAR
VERSION:2.0
PRODID:-//wp-events-plugin.com//7.2.3.1//EN
TZID:Europe/Berlin
X-WR-TIMEZONE:Europe/Berlin
BEGIN:VEVENT
UID:3676@frauenportal.koeln
DTSTART;TZID=Europe/Berlin:20220324T190000
DTEND;TZID=Europe/Berlin:20220324T203000
DTSTAMP:20220228T163432Z
URL:https://frauenportal.koeln/veranstaltungen/online-veranstaltung-fuer-a
 ngehoerige-von-frauen-und-maedchen-mit-essstoerungen/
SUMMARY:Online-Veranstaltung für Angehörige von Frauen und Mädchen mit E
 ssstörungen
DESCRIPTION:– Information\, Beratung und offener Austausch –\n\n\nWenn 
 eine nahestehende Person unter einer Essstörung leidet\, wirft das meist 
 viele Fragen und Unsicherheiten auf:\n\n 	Wie gehen Sie mit den eigenen So
 rgen um die betroffene Person um?\n 	Wie viel Raum bekommt das Thema Essen
 ?\n 	Welche Umgangs- und Verhaltensweisen könnten hilfreich sein?\n 	Wie 
 lassen sich Konflikte lösen?\n 	Was tut Betroffenen und Angehörigen glei
 chermaßen gut?\n\n\nEssstörungen sind eine vielschichtige Erkrankung\, d
 ie sich in unterschiedlichster Form zeigen kann und für alle Beteiligten 
 sehr belastend ist.\n\nIn einer wertschätzenden Atmosphäre soll den Teil
 nehmenden mit fundierten Informationen rund um das Thema Essstörungen bei
  Frauen und Mädchen zur Seite gestanden werden.\n\nGemeinsam wird der Bli
 ck auf das gelenkt\, was hilfreich und nützlich ist. Ein herzliche Willko
 mmen\, sich in der Runde auszutauschen und die eigenen Fragen zu stellen.\
 n\nModeration und fachlicher Input:\nCarola Ott – Heilpraktikerin (Psych
 otherapie)\, www.carola-ott.de\nBritt Bürgel - Dipl.-Psychologin\, Heilpr
 aktikerin\, körperorientierte Gestalttherapeutin\n\nVeranstalterin:\nFrau
 enLeben e.V. Köln\, Frauenberatungsstelle\n\nAnsprechpartnerin:\nMargret 
 Schnetgöke\, Tel.: 0221 / 954 16 60\, E-Mail: \nmail@frauenleben.org\n&nb
 sp\;\nKosten / Anmeldung:\nUm Anmeldung wird gebeten. Das Angebot ist kost
 enfrei.\n\nVeranstaltungsort:\nonline
END:VEVENT
BEGIN:VTIMEZONE
TZID:Europe/Berlin
X-LIC-LOCATION:Europe/Berlin
BEGIN:STANDARD
DTSTART:20211031T020000
TZOFFSETFROM:+0200
TZOFFSETTO:+0100
TZNAME:CET
END:STANDARD
END:VTIMEZONE
END:VCALENDAR