BEGIN:VCALENDAR
VERSION:2.0
PRODID:-//wp-events-plugin.com//7.2.3.1//EN
TZID:Europe/Berlin
X-WR-TIMEZONE:Europe/Berlin
BEGIN:VEVENT
UID:5221@frauenportal.koeln
DTSTART;TZID=Europe/Berlin:20241106T190000
DTEND;TZID=Europe/Berlin:20241106T201500
DTSTAMP:20251021T144356Z
URL:https://frauenportal.koeln/veranstaltungen/online-zeitzeichnen-mein-ko
 stenloses-neurographik-angebot-fuer-mehr-achtsamkeit-wohlbefinden-und-bewu
 sstheit/
SUMMARY:Online: Zeitzeich(n)en - mein kostenloses Neurographik-Angebot für
  mehr Achtsamkeit\, Wohlbefinden und Bewusstheit
DESCRIPTION:Bettina Strunk zu ihrem Angebot:\n\n"An jedem ersten Mittwoch i
 m Monat biete ich ein kostenloses Online-Zeichnen an.\n\nDas Zeitzeich(n)e
 n ist weniger die erste Begegnung mit der Neurographik\, sondern zumeist m
 it NeuroArt\, die in erster Linie der Entspannung\, dem Abschalten dient. 
 Hier kannst du deinen Gedanken freien Lauf lassen\, musst dich nicht anstr
 engen und mit schweren Themen beschäftigen\, sondern darfst dich dem Flie
 ßen der Linien und der Farben ganz hingeben. Du kommst in deinen FLOW.\n\
 nDu hattest bislang keine Begegnung mit der Neurographik? Um 18.30 Uhr geb
 e ich eine Einführung\, um dir das Mitzeichnen zu erleichtern."\n\n
END:VEVENT
BEGIN:VTIMEZONE
TZID:Europe/Berlin
X-LIC-LOCATION:Europe/Berlin
BEGIN:STANDARD
DTSTART:20241027T020000
TZOFFSETFROM:+0200
TZOFFSETTO:+0100
TZNAME:CET
END:STANDARD
END:VTIMEZONE
END:VCALENDAR