BEGIN:VCALENDAR
VERSION:2.0
PRODID:-//wp-events-plugin.com//7.2.3.1//EN
TZID:Europe/Berlin
X-WR-TIMEZONE:Europe/Berlin
BEGIN:VEVENT
UID:5719@frauenportal.koeln
DTSTART;TZID=Europe/Berlin:20250806T190000
DTEND;TZID=Europe/Berlin:20250806T213000
DTSTAMP:20250714T132158Z
URL:https://frauenportal.koeln/veranstaltungen/oper-im-espresso-format-2/
SUMMARY:Oper im Espresso-Format
DESCRIPTION:Mozarts "Cosi fan tutte" präsentiert von MUSIC TO GO e.V. im E
 spresso-Format\n\nHier ist die Einladung: Oper im Espresso-Format 2025 (pd
 f-Datei\, 148 KB)\n\nVeranstalterinnen:\nWIZO Gruppe und AVIV Köln e.V.\,
  WIZO Köln\nMUSIC TO GO e.V.\, www.music-to-go.com\n\nAnsprechpartnerin:\
 nGoldita Nasta\, E-Mail: wizocgn@gmail.com\n\nKosten / Anmeldung:\nEintrit
 t frei\, Spenden sind sehr erwünscht.\nAnmeldung erforderlich unter: wizo
 cgn@gmail.com\nNach Anmeldung wird circa eine Woche vor der Veranstaltung 
 die Angabe des Veranstaltungsortes per E-Mail mitgeteilt. 
END:VEVENT
BEGIN:VTIMEZONE
TZID:Europe/Berlin
X-LIC-LOCATION:Europe/Berlin
BEGIN:DAYLIGHT
DTSTART:20250330T030000
TZOFFSETFROM:+0100
TZOFFSETTO:+0200
TZNAME:CEST
END:DAYLIGHT
END:VTIMEZONE
END:VCALENDAR