BEGIN:VCALENDAR
VERSION:2.0
PRODID:-//wp-events-plugin.com//7.2.3.1//EN
TZID:Europe/Berlin
X-WR-TIMEZONE:Europe/Berlin
BEGIN:VEVENT
UID:3528@frauenportal.koeln
DTSTART;TZID=Europe/Berlin:20211202T171500
DTEND;TZID=Europe/Berlin:20211202T184500
DTSTAMP:20211130T151308Z
URL:https://frauenportal.koeln/veranstaltungen/palette-pinsel-co-maltechni
 ken-von-kuenstlerinnen/
SUMMARY:Palette\, Pinsel & Co - Maltechniken von Künstlerinnen
DESCRIPTION:Die renommierte Abteilung für Kunsttechnologie und Restaurieru
 ng des Wallraf-Richartz-Museums zeigt in einer groß angelegten Schau\, wi
 e Künstler*innen ihre Bilder im Laufe der Jahrhunderte geschaffen haben.\
 n\nDer stufenweise Malprozess vom Bildträger über die Grundierung\, Vorz
 eichnung und die einzelnen Malschichten wird anhand vieler Beispiele nachv
 ollzogen. Mit dabei sind die Künstlerinnen Catharina van Hemessen (ältes
 tes Selbstbildnis einer Malerin)\, Berthe Morisot\, Marianne Stokes und Ga
 briele Münter.\n\nZusätzlich zeigt eine Präsentation im Mittelsaal des 
 Museums die Geschichte der künstlerischen Ausbildung. Ganz deutlich wird 
 dabei\, wie sehr Frauen um gleiche Chancen kämpfen mussten. \n\nMit Museu
 msführerin Dr. Inge Schaefer.\n\nVeranstalterin:\nKölner Frauengeschicht
 sverein e.V.\n\nKontakt:\nTel.: 0221 / 24 82 65\, E-Mail: info@frauengesch
 ichtsverein.de\n\nKosten / Anmeldung:\nKostenbeitrag: 12 Euro zzgl. Museum
 seintritt für Nicht-KölnerInnen (Bitte Personalausweis mitbringen)\n\nVe
 ranstaltungsort:\nTreffpunkt: 17.15 Uhr (pünktlich) vor der Kasse des Wal
 lraf-Richartz-Museum\, Obenmarspforten 40\, 50667 Köln\, [map id=924]
END:VEVENT
BEGIN:VTIMEZONE
TZID:Europe/Berlin
X-LIC-LOCATION:Europe/Berlin
BEGIN:STANDARD
DTSTART:20211031T020000
TZOFFSETFROM:+0200
TZOFFSETTO:+0100
TZNAME:CET
END:STANDARD
END:VTIMEZONE
END:VCALENDAR