BEGIN:VCALENDAR
VERSION:2.0
PRODID:-//wp-events-plugin.com//7.2.3.1//EN
TZID:Europe/Berlin
X-WR-TIMEZONE:Europe/Berlin
BEGIN:VEVENT
UID:575@frauenportal.koeln
DTSTART;TZID=Europe/Berlin:20171109T183000
DTEND;TZID=Europe/Berlin:20171109T210000
DTSTAMP:20230803T083625Z
URL:https://frauenportal.koeln/veranstaltungen/paragrafen-prosecco-lesung-
 mit-katharina-mosel/
SUMMARY:Paragrafen & Prosecco | Lesung mit Katharina Mosel
DESCRIPTION:Die ehemaligen Studienkolleginnen Ida und Karla treffen zufäll
 ig wieder aufeinander und beschließen gemeinsam eine Kanzlei zu gründen.
  Unterstützt werden beide von Susi\, die das Examen wegen Prüfungsangst 
 nicht bestanden hat und ohne die beiden Freundinnen bis ans Ende ihrer Tag
 e kellnern müsste. Schon bald kommen die ersten Aufträge\, die so bunt s
 ind wie das wahre Leben. Die jungen Frauen erkennen schnell\, dass die Lö
 sung nicht immer im Gesetz steht\, sondern Einfühlungsvermögen und Herz 
 erfordert. Während sich Ida mit der unerwarteten Eifersucht ihres Gatten 
 herumschlagen muss\, rutscht Susi von einer amourösen Katastrophe in die 
 nächste. Nur Karla will mit Männern nichts zu tun haben. Das sieht nicht
  nur der charmante Kollege aus der Nachbarkanzlei\, der ihr mit Rat und Ta
 t zur Seite steht\, völlig anders …\n\nIn ihrem ersten Roman gewähren 
 die beiden Anwältinnen Janine Achilles und Katharina Mosel einen humorvol
 len Einblick in die Welt einer Anwaltskanzlei. Humorvoll und mit einem Aug
 enzwinkern für die Höhen und Tiefen des menschlichen Lebens werden Gesch
 ichten aus dem Kanzleialltag erzählt. Natürlich ist danach auch Zeit mit
  Katharina Mosel ins Gespräch zu kommen.\n\nVorher und nachher ist Gelege
 nheit neue Kontakte zu knüpfen oder bestehende zu vertiefen. Also Flyer u
 nd Visitenkarten mitbringen! Frau weiß ja nie...\n\nVeranstalterin:\nSch
 öne Aussichten Rheinland\n\nAnsprechpartnerin:\nPetra Gremmelspacher\, E-
 Mail: rheinland@schoene-aussichten.de\n\nKosten / Anmeldung:\nEingeladen s
 ind selbständige Frauen aller Branchen. Frauen\, die nicht Mitglied bei S
 chöne Aussichten sind\, zahlen einen Kostenbeitrag über Xing-Event.\n\nV
 eranstaltungsort:\nLoft 33\, Josephstr. 31-33 (Hinterhaus)\, 50676 Köln\,
  [map id=12006]
END:VEVENT
BEGIN:VTIMEZONE
TZID:Europe/Berlin
X-LIC-LOCATION:Europe/Berlin
BEGIN:STANDARD
DTSTART:20171029T020000
TZOFFSETFROM:+0200
TZOFFSETTO:+0100
TZNAME:CET
END:STANDARD
END:VTIMEZONE
END:VCALENDAR