BEGIN:VCALENDAR
VERSION:2.0
PRODID:-//wp-events-plugin.com//7.2.3.1//EN
TZID:Europe/Berlin
X-WR-TIMEZONE:Europe/Berlin
BEGIN:VEVENT
UID:2809@frauenportal.koeln
DTSTART;TZID=Europe/Berlin:20200806T180000
DTEND;TZID=Europe/Berlin:20200806T193000
DTSTAMP:20200730T125408Z
URL:https://frauenportal.koeln/veranstaltungen/paula-gabriele-suzanne-das-
 ludwig-und-seine-frauen/
SUMMARY:Paula\, Gabriele\, Suzanne - Das Ludwig und „seine“ Frauen
DESCRIPTION:Schon 2016 haben die Guerilla-Girls die komplette Sammlung des 
 Museum Ludwig untersucht und die Anzahl der Künstlerinnen zu den Künstle
 rn ins Verhältnis gesetzt. Bei dieser Führung wird dieser Thematik nachg
 egangen und werden u.a. folgende Fragen untersucht: Wie steht es mit der P
 räsenz von Frauen im Museum Ludwig? Wie hoch ist der Anteil der Künstler
 innen\, wie hoch der Anteil der abgebildeten Frauen?\n\nAnhand ausgesuchte
 r Highlights wird in der zweiten Etage\, der Abteilung der Expressionisten
 Innen auf Spurensuche gegangen. Dabei werden Werke von Paula Modersohn-Bec
 ker\, Mary Bauermeister\, Suzanne Valadon und Gerhard Richter untersucht u
 nd die Wirkung der unterschiedlichen ausdruckstarken Werke wahrgenommen. G
 ibt es Unterschiede zwischen den einzelnen KünstlerInnen in der Themenwah
 l\, in der Ausführung usw.? Abschließend wird wir noch einen Blick auf d
 as derzeitige Team des Museums geworfen. Wie hoch ist hier der Anteil der 
 Mitarbeiterinnen? \n\nFührung mit Dr. Inge Schaefer\n\nVeranstalterin:\nK
 ölner Frauengeschichtsverein e.V.\n\nKontakt:\nTel.: 0221 / 24 82 65\, E-
 Mail: info@frauengeschichtsverein.de\n\nKosten / Anmeldung:\nKostenbeitrag
  (coronabedingt): 15 Euro zzgl. Museumseintritt für Nicht-KölnerInnen (b
 itte Personalausweis mitbringen)\nAnmeldung erforderlich!\n\nVeranstaltung
 sort:\nTreffpunkt: vor der Kasse des Museums Ludwig\, Heinrich-Böll-Platz
 \, 50667 Köln\, [map id=1018]
END:VEVENT
BEGIN:VTIMEZONE
TZID:Europe/Berlin
X-LIC-LOCATION:Europe/Berlin
BEGIN:DAYLIGHT
DTSTART:20200329T030000
TZOFFSETFROM:+0100
TZOFFSETTO:+0200
TZNAME:CEST
END:DAYLIGHT
END:VTIMEZONE
END:VCALENDAR