BEGIN:VCALENDAR
VERSION:2.0
PRODID:-//wp-events-plugin.com//7.2.3.1//EN
TZID:Europe/Berlin
X-WR-TIMEZONE:Europe/Berlin
BEGIN:VEVENT
UID:3266@frauenportal.koeln
DTSTART;TZID=Europe/Berlin:20210616T193000
DTEND;TZID=Europe/Berlin:20210616T210000
DTSTAMP:20210531T135547Z
URL:https://frauenportal.koeln/veranstaltungen/perspektivwechsel-erfolg-du
 rch-einen-neuen-fokus/
SUMMARY:Perspektivwechsel - Erfolg durch einen neuen Fokus
DESCRIPTION:Im Berufsleben und im Alltag begegnen wir vielfältigen Herausf
 orderungen\, auch solchen\, die wir an uns selbst stellen: Wir wollen erfo
 lgreich sein\, in allem was wir tun. Dabei kommt es auf den richtigen Foku
 s an: Worauf fokussiere ich mich? Auf Probleme und Hindernisse? Und wie ge
 lingt es mir\, meinen Fokus auf das zu setzen\, was mich unterstützt?\n\n
 Die Referentin\, Coach Andrea Cugier\, will die Teilnehmerinnen motivieren
 \, sich neuer Möglichkeiten für Wachstum und Erfolg bewusst zu werden.\n
 \nVeranstalterin:\nBundesverband der Frau in Business und Management e.V.\
 n\nAnsprechpartnerin:\nAstrid Windfuhr\, Tel.: 0221 / 732 63 53\n\nKosten 
 / Anmeldung:\nBeitrag für Gäste 10 €\, Mitglieder frei.\nAnmeldung erf
 orderlich unter www.eventbrite.de/e/perspektivwechsel-erfolg-durch-einen-n
 euen-fokus-tickets-156504787031\n\nVeranstaltungsort:\nonline
END:VEVENT
BEGIN:VTIMEZONE
TZID:Europe/Berlin
X-LIC-LOCATION:Europe/Berlin
BEGIN:DAYLIGHT
DTSTART:20210328T030000
TZOFFSETFROM:+0100
TZOFFSETTO:+0200
TZNAME:CEST
END:DAYLIGHT
END:VTIMEZONE
END:VCALENDAR