BEGIN:VCALENDAR
VERSION:2.0
PRODID:-//wp-events-plugin.com//7.2.3.1//EN
TZID:Europe/Berlin
X-WR-TIMEZONE:Europe/Berlin
BEGIN:VEVENT
UID:347@frauenportal.koeln
DTSTART;TZID=Europe/Berlin:20170310T180000
DTEND;TZID=Europe/Berlin:20170310T213000
DTSTAMP:20170529T051636Z
URL:https://frauenportal.koeln/veranstaltungen/philosophie-in-bewegung-fre
 iheit-gleichheit-bruederlichkeit-10-maerz-2017-freitag/
SUMMARY:Philosophie in Bewegung: Freiheit\, Gleichheit\, Brüderlichkeit 
DESCRIPTION:\n          \n\n  …die Rede von Carolin Emcke zur Eröffnung 
 der Ruhrtriennale 2016Am 12.8.2016 eröffnete Carolin Emcke (Journalistin 
 und Preisträgerin 2016  des Friedenspreises des Deutschen Buchhandels) mi
 t einer denkwürdigen Rede zu Aufklärung\, dem Motto der Ruhrtriennale  
 – Seid umschlungen Millionen – und der Frage nach Freiheit\, Gleichhei
 t . . .Es soll jenen Fragen\, die sie in dieser Rede dem Publikum und dami
 t uns stellt\, nachgegangen und ihrer These Raum gegeben werden\, dass es 
 Erzählungen davon brauche\, wie die Freiheit schmeckt\, wie die Gleichhei
 t sich anfühlt und wie Brüderlichkeit und Schwesterlichkeit klingen.Ein 
 sehr spannender Abend für alle mit jener Lust\, die uns mit Denken\, Phil
 osophieren\, Kontroversen und Gemeinsamkeiten in Bewegung und Aktion bring
 en kann.Referentin:Felicitas Martin\, Performerin\, KünstlerinVeranstalte
 rin:Beginen Köln e.V.Ansprechpartnerinnen:Christine Müthrath\, Tel.: 022
 1 / 9655820\, E-Mail: eval(decodeURIComponent('%76%61%72%20%73%3D%27%6E%69
 %6F%66%62%40%67%65%6E%69%6E%65%64%2E%65%27%3B%76%61%72%20%72%3D%27%27%3B%6
 6%6F%72%28%76%61%72%20%69%3D%30%3B%69%3C%73%2E%6C%65%6E%67%74%68%3B%69%2B%
 2B%2C%69%2B%2B%29%7B%72%3D%72%2B%73%2E%73%75%62%73%74%72%69%6E%67%28%69%2B
 %31%2C%69%2B%32%29%2B%73%2E%73%75%62%73%74%72%69%6E%67%28%69%2C%69%2B%31%2
 9%7D%64%6F%63%75%6D%65%6E%74%2E%77%72%69%74%65%28%27%3C%61%20%68%72%65%66%
 3D%22%6D%61%69%6C%74%6F%3A%27%2B%72%2B%27%22%3E%69%6E%66%6F%40%62%65%67%69
 %6E%65%6E%2E%64%65%3C%2F%61%3E%27%29%3B'))Kosten / Anmeldung:Kostenbeitrag
 : 12 € / 8 € ermäßigter BeitragVeranstaltungsort:Beginentreff im Beg
 inenhof Köln\, Unter Linden 119\, 50859 Köln\, Lageplan
END:VEVENT
BEGIN:VTIMEZONE
TZID:Europe/Berlin
X-LIC-LOCATION:Europe/Berlin
BEGIN:STANDARD
DTSTART:20161030T020000
TZOFFSETFROM:+0200
TZOFFSETTO:+0100
TZNAME:CET
END:STANDARD
END:VTIMEZONE
END:VCALENDAR