BEGIN:VCALENDAR
VERSION:2.0
PRODID:-//wp-events-plugin.com//7.2.3.1//EN
TZID:Europe/Berlin
X-WR-TIMEZONE:Europe/Berlin
BEGIN:VEVENT
UID:6179@frauenportal.koeln
DTSTART;TZID=Europe/Berlin:20260418T110000
DTEND;TZID=Europe/Berlin:20260418T130000
DTSTAMP:20260330T154604Z
URL:https://frauenportal.koeln/veranstaltungen/pilgern-auf-dem-koelner-hei
 ligenweg/
SUMMARY:Pilgern auf dem Kölner Heiligenweg
DESCRIPTION:Schon im Mittelalter machten sich viele Pilger\, die in Köln a
 nkamen oder Station machten\, auf einen Rundweg durch die Stadt zu wichtig
 en Kirchenbauten und Heiligen-Gedenkstätten. An diesem Vormittag soll sic
 h auf diesen ca. 8 km langen Weg begeben werden. Dabei können einige der 
 eindrucksvollen Kirchen besucht und weitere Gedenkorte kennengelernt werde
 n.\n\nMit Gabriele Gassen und Renate Podehl-Sautner.\n\nVeranstalterin: \n
 Beginen Köln e.V.\n\nAnsprechpartnerin:\nChristine Müthrath\, Tel.: 0221
  / 9655820\, E-Mail: info@beginen.de\n\nKosten / Anmeldung:\nKostenbeitrag
 : 5\,- € / 3\,- € ermäßigter Beitrag. Anmeldung erforderlich.\n\nTre
 ffpunkt / Verpflegung\nist am Eingang des Domforums\, Start um 11 Uhr in n
 ormalem Wandertempo. Wer zu spät kommt\, kann der Gruppe folgen nach St. 
 Kunibert\, der ersten Station. Bitte für unterwegs Getränke und Snacks m
 itbringen.
LOCATION:Domforum\, Domkloster 3\, 50667 Köln
GEO:50.9407852;6.95667386
X-APPLE-STRUCTURED-LOCATION;VALUE=URI;X-ADDRESS=Domkloster 3\, Köln\, 5066
 7\, Veranstaltungsort\, Deutschland;X-APPLE-RADIUS=100;X-TITLE=Domforum:ge
 o:50.9407852,6.95667386
END:VEVENT
BEGIN:VTIMEZONE
TZID:Europe/Berlin
X-LIC-LOCATION:Europe/Berlin
BEGIN:DAYLIGHT
DTSTART:20260329T030000
TZOFFSETFROM:+0100
TZOFFSETTO:+0200
TZNAME:CEST
END:DAYLIGHT
END:VTIMEZONE
END:VCALENDAR