BEGIN:VCALENDAR
VERSION:2.0
PRODID:-//wp-events-plugin.com//7.2.3.1//EN
TZID:Europe/Berlin
X-WR-TIMEZONE:Europe/Berlin
BEGIN:VEVENT
UID:4418@frauenportal.koeln
DTSTART;TZID=Europe/Berlin:20231025T183000
DTEND;TZID=Europe/Berlin:20231025T200000
DTSTAMP:20230928T085345Z
URL:https://frauenportal.koeln/veranstaltungen/pilgern-was-ist-das/
SUMMARY:Pilgern – was ist das?
DESCRIPTION:– Frauengesprächskreis\, Workshop und Diskussion –\n\nPilg
 ern ist so alt wie das Wandern selbst. Aber was genau steckt dahinter\, wa
 s unterscheidet Pilgern vom Gehen oder Wandern und welche Kulturen pflegen
  das Pilgern noch heute? Im interkulturellen Frauengesprächskreis wird da
 rüber gesprochen\, mit praktischen Übungen.\n\nVeranstalterin:\nFrauenge
 sprächskreis Markuskirche Porz\n\nAnsprechpartnerin:\nManguela Fokuhl\, T
 el.: 0176 / 43433838\, E-Mail: mfokuhl@posteo.de
LOCATION:Markuskirche Porz\, Martin-Luther-Str. 38\, 51145 Köln
GEO:50.887895;7.077867
X-APPLE-STRUCTURED-LOCATION;VALUE=URI;X-ADDRESS=Martin-Luther-Str. 38\, Kö
 ln\, Nordrhein-Westfalen\, 51145\, Veranstaltungsort\, Deutschland;X-APPLE
 -RADIUS=100;X-TITLE=Markuskirche Porz:geo:50.887895,7.077867
END:VEVENT
BEGIN:VTIMEZONE
TZID:Europe/Berlin
X-LIC-LOCATION:Europe/Berlin
BEGIN:DAYLIGHT
DTSTART:20230326T030000
TZOFFSETFROM:+0100
TZOFFSETTO:+0200
TZNAME:CEST
END:DAYLIGHT
END:VTIMEZONE
END:VCALENDAR