BEGIN:VCALENDAR
VERSION:2.0
PRODID:-//wp-events-plugin.com//7.2.3.1//EN
TZID:Europe/Berlin
X-WR-TIMEZONE:Europe/Berlin
BEGIN:VEVENT
UID:1836@frauenportal.koeln
DTSTART;TZID=Europe/Berlin:20190321T190000
DTEND;TZID=Europe/Berlin:20190321T210000
DTSTAMP:20190228T183843Z
URL:https://frauenportal.koeln/veranstaltungen/pimp-your-brain-fruehjahrsp
 utz-fuer-glaubenssaetze-nlp-info-workshop/
SUMMARY:Pimp your Brain! Frühjahrsputz für Glaubenssätze! – NLP-Info-W
 orkshop
DESCRIPTION:Jenison Thomkins zu ihrem Angebot:\n\n"Jetzt im März gilt es\,
  das richtige Saatgut für den eigenen ‚Acker‘ auszuwählen und den Ac
 kerboden aufzulockern\, zu deutsch: festgefahrene\, verkrustete Verhaltens
 muster und Glaubenssätze zu durchfurchen und aufzulockern\, damit Neues w
 achsen kann!\n\nSich die innere Erlaubnis für Veränderungen geben und mi
 t den genial-einfachen Methoden des NLP die wirklich wichtigen Ziele für 
 2019 angehen!\n\nWie´s leicht gelingt\, erfahren Sie an diesem Abend im N
 LP-Info-Workshop!\n\nKostenloser Info Workshop zu allen Veranstaltungen im
  Atelier!\n\nFür alle Practitioner-\, Master- und 4D-Typologie-Interessie
 rten ist dieser Abend eine gute Gelegenheit\, sich über meine Arbeit und 
 alle anderen Fragen bezüglich der Ausbildungen und Bildungsurlaube der ko
 mmenden Zeit  zu informieren!\n\nWas geschieht beim NLP-Info-Workshop?\n\n
  	Ankommen\, Kaffee und Tee trinken\n 	Trainer\, Assistent-Innen und ander
 e nette Menschen kennenlernen\n 	theoretische Einführung ins NLP-Thema\n 
 	Praktische Übung mit persönlichem Feedback\n 	allgemeine Infos zu NLP u
 nd den aktuellen Ausbildungen und Workshops im Atelier für NLP&amp\;Pers
 önlichkeitsentwicklung\n\nDu bist an diesem Abend verhindert\, möchtest 
 dich aber über das Jahresprogramm informieren? Gern lade ich dich zu alle
 n weiteren Info-Workshops ein\, und bring deine Freunde/Partner/Familie mi
 t!"\n\nMehr Infos und Anmeldung bei: Jenison Thomkins
END:VEVENT
BEGIN:VTIMEZONE
TZID:Europe/Berlin
X-LIC-LOCATION:Europe/Berlin
BEGIN:STANDARD
DTSTART:20181028T020000
TZOFFSETFROM:+0200
TZOFFSETTO:+0100
TZNAME:CET
END:STANDARD
END:VTIMEZONE
END:VCALENDAR