BEGIN:VCALENDAR
VERSION:2.0
PRODID:-//wp-events-plugin.com//7.2.3.1//EN
TZID:Europe/Berlin
X-WR-TIMEZONE:Europe/Berlin
BEGIN:VEVENT
UID:3386@frauenportal.koeln
DTSTART;TZID=Europe/Berlin:20211130T183000
DTEND;TZID=Europe/Berlin:20211130T200000
DTSTAMP:20241115T122338Z
URL:https://frauenportal.koeln/veranstaltungen/podiumsdiskussion-maenner-t
 oeten-frauen-weil-sie-frauen-sind/
SUMMARY:Podiumsdiskussion: Männer töten Frauen\, weil sie Frauen sind
DESCRIPTION:– Im Rahmen der Orange Days und zum Internationalen Tag gegen
  Gewalt an Frauen -\n\nStatistisch gesehen wird jeden dritten Tag eine Fra
 u von ihrem (Ex-)Partner getötet. Gewalt gegen Frauen ist kein Einzelfall
 \, sondern strukturell. Das Thema Femizid wird von Fachexpert*innen aus un
 terschiedlichen Blickwinkeln beleuchtet und diskutiert.\n\nMit dabei:\n\n 
 	Sonja Bläser\, Beratungsstelle HennaMond e.V.\, www.hennamond.de\n 	Dilk
 en Celebi\, Deutscher Juristinnenbund e.V.\, www.djb.de\n 	Hannah Beeck\, 
 Rechercheprojekt Femi(ni)zidmap\, www.feminizidmap.org/de/\n 	Marc Thomas\
 , Fachbereich Gewaltprävention des AWO Kreisverband Köln e.V.\, www.awo-
 koeln.de/fachbereich-fuer-gewaltpraevention.html\n 	Sarah Kessler\, Journa
 listin und Autorin\, www.sarahbration.de\n\nModeration: Erik Butterbrodt\n
 \nVeranstalterin:\nAmt für Gleichstellung von Frauen und Männern der Sta
 dt Köln\n\nKontakt:\nBettina Mötting\, Gleichstellungsbeauftragte der St
 adt Köln\, Tel.: 0221 / 221 264 72\, E-Mail: gleichstellungsamt@stadt-koe
 ln.de\n\nAnmeldung:\nDer Eintritt ist frei. Anmeldung bis zum 26. November
  per E-Mail erforderlich unter orangedays@stadt-koeln.de\n\nVeranstaltungs
 ort:\nBogen 2\, Gladbacher Wall 5\, 50670 Köln\, [map id=16952]
END:VEVENT
BEGIN:VTIMEZONE
TZID:Europe/Berlin
X-LIC-LOCATION:Europe/Berlin
BEGIN:STANDARD
DTSTART:20211031T020000
TZOFFSETFROM:+0200
TZOFFSETTO:+0100
TZNAME:CET
END:STANDARD
END:VTIMEZONE
END:VCALENDAR