BEGIN:VCALENDAR
VERSION:2.0
PRODID:-//wp-events-plugin.com//7.2.3.1//EN
TZID:Europe/Berlin
X-WR-TIMEZONE:Europe/Berlin
BEGIN:VEVENT
UID:2843@frauenportal.koeln
DTSTART;TZID=Europe/Berlin:20200926T100000
DTEND;TZID=Europe/Berlin:20200926T130000
DTSTAMP:20200831T171105Z
URL:https://frauenportal.koeln/veranstaltungen/politisches-fruehstueck-der
 -kfd-2020-altern-in-einer-digitalen-welt/
SUMMARY:Politisches Frühstück der kfd 2020: Altern in einer digitalen Wel
 t
DESCRIPTION:Gut vernetzt oder abgehängt?\n\nInformationsveranstaltung mit 
 Podiumsdiskussion und einem Videoimpulsreferat von Bundesministerin Franzi
 ska Giffey.\n\nDie aktuelle Corona-Krise zeigt\, dass der Zugang zu digita
 len Angeboten und die Kompetenz\, diese zu nutzen\, ganz wesentlich darüb
 er bestimmt\, wie stark Menschen an der Gesellschaft allgemein und an Hilf
 sangeboten im Besonderen teilhaben können. Doch oft stehen ältere Mensch
 en solchen Angeboten misstrauisch gegenüber oder verfügen nicht über di
 e nötige Ausstattung und Kompetenz\, diese zu nutzen. Dabei kann gerade d
 as Vertrauen in und der sichere Umgang mit digitale/n Dienste/n die Selbst
 bestimmung im Alter und vor allem auch in der Pflegesituation stark unters
 tützen.\n\nWelche Angebote gibt es? Wie können Berührungsängste abgeba
 ut werden? Welche Infrastruktur braucht es für eine verlässliche Nutzung
 ? Wie kann ein nötiger Kompetenzerwerb gewährleistet werden? Diese und w
 eitere Fragen sollen beim diesjährigen Politischen Frühstück der kfd mi
 t Referent*innen und Teilnehmenden diskutiert werden.\n\nTeilnehmende Expe
 rt*innen:\n\nRegina Görner\, stellvertretende Vorsitzender der BAGSO (Bun
 desarbeitsgemeinschaft der Seniorenorganisationen\, www.bagso.de)\; Elisab
 eth Thesing-Bleck\, Leiterin des Arbeitskreises „Frauenaspekte zur Digit
 alisierungsstrategie des Landes Nordrhein-Westfalen“\; Alexandra Kasper\
 , Caritas-Altenzentrum St. Maternus\, Köln (www.caritas-koeln.de)\; Vertr
 eter*innen der Verbraucherzentrale NRW (www.verbraucherzentrale.nrw). \n\n
 Hier ist die Einladung: politisches_fruhstuck_2020_kfd (pdf-Datei\, 532 KB
 )\n\nVeranstalterin:\nKatholische Frauengemeinschaft Deutschlands (kfd)\, 
 Diözesanverband Köln e.V.\n\nAnsprechpartnerin:\nAstrid Mönnikes\, Tel.
 : 0221 / 1642-1557\, E-Mail: a.moennikes@kfd-koeln.de\n\nKosten / Anmeldun
 g:\n30\,00 Euro (kfd-Mitglieder 20\,00 Euro) inklusive Frühstücksbuffet\
 nAnmeldung: Andrea Monschau\, Tel.: 0221 / 1642-1550\, E-Mail: info@kfd-ko
 eln.de\n\nVeranstaltungsort:\nINVIA\, Verband kath. Mädchensozialarbeit e
 .V. Köln\, Stolzestr. 1a\, 50674 Köln\, [map id=966]
END:VEVENT
BEGIN:VTIMEZONE
TZID:Europe/Berlin
X-LIC-LOCATION:Europe/Berlin
BEGIN:DAYLIGHT
DTSTART:20200329T030000
TZOFFSETFROM:+0100
TZOFFSETTO:+0200
TZNAME:CEST
END:DAYLIGHT
END:VTIMEZONE
END:VCALENDAR