BEGIN:VCALENDAR
VERSION:2.0
PRODID:-//wp-events-plugin.com//7.2.3.1//EN
TZID:Europe/Berlin
X-WR-TIMEZONE:Europe/Berlin
BEGIN:VEVENT
UID:5106@frauenportal.koeln
DTSTART;TZID=Europe/Berlin:20240704T190000
DTEND;TZID=Europe/Berlin:20240704T220000
DTSTAMP:20240624T081402Z
URL:https://frauenportal.koeln/veranstaltungen/positiv-im-leben-stehen-ein
 -affirmationsworkshop-online/
SUMMARY:Positiv im Leben stehen – Ein Affirmationsworkshop (online)
DESCRIPTION:Bettina Strunk über ihre Veranstaltung:\n\n“Dieser Workshop 
 hätte auch den Titel ‘Was ich mir immer schon sagen wollte’ tragen k
 önnen. Sätze\, wie ‘Du bist ein wunderbarer Mensch’ oder ‘Du bist 
 einzigartig’\, die uns leicht über die Lippen kommen\, wenn wir sie and
 eren Menschen sagen\, wollen wir für uns meist nicht annehmen. Es ist an 
 der Zeit\, dies zu ändern\, denn in dem Augenblick\, wo wir solche Aussag
 en auch für uns annehmen\, steigt die Chance auf ein glückliches und erf
 ülltes Leben unglaublich.\nAffirmationen helfen uns dabei\, indem wir die
  für uns passende sehr häufig wiederholen. Das belegen zahlreiche Studie
 n.\nIn dem Workshop nutzen wir die kreative Transformationsmethode Neurogr
 aphik\, um hilfreiche und nützliche Aussagen zu erkennen und anzunehmen\,
  und uns von destruktiven Aussagen zu verabschieden. Nutze die Kraft deine
 r Gedanken!\n\nLeitung: Bettina Strunk\n\n4. Juli 2024\, 19 – 22 Uhr\, K
 osten: 38 €\n\nMehr Infos: https://www.sinn-stift-art.de/online-workshop
 -affirmationen &quot\;
END:VEVENT
BEGIN:VTIMEZONE
TZID:Europe/Berlin
X-LIC-LOCATION:Europe/Berlin
BEGIN:DAYLIGHT
DTSTART:20240331T030000
TZOFFSETFROM:+0100
TZOFFSETTO:+0200
TZNAME:CEST
END:DAYLIGHT
END:VTIMEZONE
END:VCALENDAR