BEGIN:VCALENDAR
VERSION:2.0
PRODID:-//wp-events-plugin.com//7.2.3.1//EN
TZID:Europe/Berlin
X-WR-TIMEZONE:Europe/Berlin
BEGIN:VEVENT
UID:5467@frauenportal.koeln
DTSTART;TZID=Europe/Berlin:20250125T110000
DTEND;TZID=Europe/Berlin:20250125T160000
DTSTAMP:20241220T131001Z
URL:https://frauenportal.koeln/veranstaltungen/praesenz-workshop-stabilita
 et-und-zuversicht-im-neuen-jahr-ein-neurobaum-workshop/
SUMMARY:Präsenz-Workshop: Stabilität und Zuversicht im neuen Jahr - ein N
 euroBaum-Workshop
DESCRIPTION:Bettina Strunk zu ihrem Angebot:\n\n"In diesem Workshop wirst d
 u dem wunderbaren Modell des NeuroBaums begegnen. Mit ihm wirst du eine an
 dere Sicht auf die Dinge\, aber auch auf dich bekommen. Möglichkeiten wer
 den real und Ziele erreichbar. Dank deiner eigenen Ressourcen und Potenzia
 le.\n\nLass’ dich von dir selbst überraschen und staune!\n\nDer Worksho
 p findet im Atelier der Gymnicher Mühle in Erftstadt-Gymnich statt: www.g
 ymnicher-muehle.net\n\nDeine Investition: 150 €\n\nHier erhältst du wei
 tere Informationen: www.sinn-stift-art.de/jahresanfang &quot\;
END:VEVENT
BEGIN:VTIMEZONE
TZID:Europe/Berlin
X-LIC-LOCATION:Europe/Berlin
BEGIN:STANDARD
DTSTART:20241027T020000
TZOFFSETFROM:+0200
TZOFFSETTO:+0100
TZNAME:CET
END:STANDARD
END:VTIMEZONE
END:VCALENDAR