BEGIN:VCALENDAR
VERSION:2.0
PRODID:-//wp-events-plugin.com//7.2.3.1//EN
TZID:Europe/Berlin
X-WR-TIMEZONE:Europe/Berlin
BEGIN:VEVENT
UID:3934@frauenportal.koeln
DTSTART;TZID=Europe/Berlin:20221125T180000
DTEND;TZID=Europe/Berlin:20221125T203000
DTSTAMP:20241115T121902Z
URL:https://frauenportal.koeln/veranstaltungen/protestmarsch-wir-nehmen-un
 s-die-nacht-2/
SUMMARY:Protestmarsch „Wir nehmen uns die Nacht!“
DESCRIPTION:Das Bündnis LILA IN KÖLN organisiert auch dieses Jahr wieder 
 einen Protestmarsch zum Internationalen Tag gegen Gewalt an Frauen.\n\n„
 Wir nehmen uns die Nacht“ – mit dieser Parole ziehen Frauen* und Mädc
 hen* durch die Straßen und fordern das Recht auf ein gewaltfreies\, gleic
 hberechtigtes\, freies und selbstbestimmtes Leben.\n\nSammlung ist um 17.3
 0 Uhr am Hans-Böckler-Platz. Dort wird um 18 Uhr mit einer Kundgebung ges
 tartet. Im Anschluss geht der gemeinsame Demo-Zug zum Breslauer Platz\, wo
  die Abschlusskundgebung stattfindet.\n\nAus dem Aufruf:\n"Demo-Konsens:\n
 Wir laden alle herzlich ein\, Plakate/Transparente/Schilder u.ä. mitzubri
 ngen\, auf denen es inhaltlich um eine Positionierung zum Thema des Tages 
 („Internationaler Tag gegen Gewalt an Frauen* und Mädchen*) geht. Bitte
  keine Parteifahnen oder Ähnliches mitbringen! Slogans\, die in anderen S
 prachen (außer Englisch) abgefasst sind\, bitte auch immer mit der deutsc
 hen Übersetzung ergänzen.\nInsgesamt gilt: geht respektvoll miteinander 
 um und beachtet die Grenzen anderer!\n\nWir freuen uns auf euer Kommen!"\n
 \nHier ist die Einladung: Plakat_Reclaim_2022_Koeln (pdf-Datei\, 813 KB)\n
 \n„Reclaim the night“ – Wir nehmen uns die Nacht zurück! So heißt 
 die Parole – in Anlehnung an die Protestmärsche\, die seit 1976 weltwei
 t von Frauen durchgeführt werden. Der erste Marsch in Deutschland fand 19
 77 statt. Frauen und Mädchen ziehen zur Abend- oder Nachtzeit laut und bu
 nt durch die Straßen und fordern das Recht\, sich in ihrer Stadt am Tag u
 nd in der Nacht frei bewegen zu können\, ohne Angst haben zu müssen\, se
 xuell belästigt oder vergewaltigt zu werden.\n\nVeranstalterinnen:\nBünd
 nis autonomer Frauenprojekte gegen Gewalt – Lila in Köln\nmit Kooperati
 onspartnerinnen\n\nAnsprechpartnerin:\nIrmgard Kopetzky\, Tel.: 0221 / 56 
 20 35\, E-Mail: mailbox@notruf-koeln.de\n\nVeranstaltungsort:\nHans-Böcke
 r-Platz (Bahnhof Köln-West)\, 50672 Köln\, [map id=882]
END:VEVENT
BEGIN:VTIMEZONE
TZID:Europe/Berlin
X-LIC-LOCATION:Europe/Berlin
BEGIN:STANDARD
DTSTART:20221030T020000
TZOFFSETFROM:+0200
TZOFFSETTO:+0100
TZNAME:CET
END:STANDARD
END:VTIMEZONE
END:VCALENDAR