BEGIN:VCALENDAR
VERSION:2.0
PRODID:-//wp-events-plugin.com//7.2.3.1//EN
TZID:Europe/Berlin
X-WR-TIMEZONE:Europe/Berlin
BEGIN:VEVENT
UID:4439@frauenportal.koeln
DTSTART;TZID=Europe/Berlin:20231125T180000
DTEND;TZID=Europe/Berlin:20231125T203000
DTSTAMP:20241115T121550Z
URL:https://frauenportal.koeln/veranstaltungen/protestmarsch-wir-nehmen-un
 s-die-nacht-3/
SUMMARY:Protestmarsch „Wir nehmen uns die Nacht!“
DESCRIPTION:Das Bündnis LILA IN KÖLN organisiert auch dieses Jahr wieder 
 einen Protestmarsch zum Internationalen Tag gegen Gewalt an Frauen.\n\n„
 Wir nehmen uns die Nacht“ – mit dieser Parole ziehen Frauen* und Mädc
 hen* durch die Straßen und fordern das Recht auf ein gewaltfreies\, gleic
 hberechtigtes\, freies und selbstbestimmtes Leben.\n\nSammlung ist um 17.3
 0 Uhr am Hans-Böckler-Platz. Dort wird um 18 Uhr mit einer Kundgebung ges
 tartet. Im Anschluss geht der gemeinsame Demo-Zug zum Breslauer Platz\, wo
  die Abschlusskundgebung stattfindet.\n\nAus dem Aufruf:\n"Demo-Konsens:\n
 Wir laden alle herzlich ein\, Plakate/Transparente/Schilder u.ä. mitzubri
 ngen\, auf denen es inhaltlich um eine Positionierung zum Thema des Tages 
 („Internationaler Tag gegen Gewalt an Frauen* und Mädchen*) geht. Bitte
  keine Parteifahnen oder Ähnliches mitbringen! Slogans\, die in anderen S
 prachen (außer Englisch) abgefasst sind\, bitte auch immer mit der deutsc
 hen Übersetzung ergänzen.\nInsgesamt gilt: geht respektvoll miteinander 
 um und beachtet die Grenzen anderer!\n\nWir freuen uns auf euer Kommen!"\n
 \nWeitere Infos folgen!\n\n„Reclaim the night“ – Wir nehmen uns die 
 Nacht zurück! So heißt die Parole – in Anlehnung an die Protestmärsch
 e\, die seit 1976 weltweit von Frauen durchgeführt werden. Der erste Mars
 ch in Deutschland fand 1977 statt. Frauen und Mädchen ziehen zur Abend- o
 der Nachtzeit laut und bunt durch die Straßen und fordern das Recht\, sic
 h in ihrer Stadt am Tag und in der Nacht frei bewegen zu können\, ohne An
 gst haben zu müssen\, sexuell belästigt oder vergewaltigt zu werden.\n\n
 Veranstalterinnen:\nBündnis autonomer Frauenprojekte gegen Gewalt – Lil
 a in Köln\nmit Kooperationspartnerinnen\n\nAnsprechpartnerin:\nChiara Mak
 owski\, Tel.: 0221 / 4201620\, E-Mail: cm@fbzkoeln.de\n\nTreffpunkt:\nHans
 -Böcker-Platz (Bahnhof Köln-West)\, 50672 Köln
LOCATION:DGB-Haus\, Hans-Böckler Platz 1\, 50672 Köln
GEO:50.94338;6.93357
X-APPLE-STRUCTURED-LOCATION;VALUE=URI;X-ADDRESS=Hans-Böckler Platz 1\, Kö
 ln\, 50672\, Frauenorganisation\, Deutschland;X-APPLE-RADIUS=100;X-TITLE=D
 GB-Haus:geo:50.94338,6.93357
END:VEVENT
BEGIN:VTIMEZONE
TZID:Europe/Berlin
X-LIC-LOCATION:Europe/Berlin
BEGIN:STANDARD
DTSTART:20231029T020000
TZOFFSETFROM:+0200
TZOFFSETTO:+0100
TZNAME:CET
END:STANDARD
END:VTIMEZONE
END:VCALENDAR