BEGIN:VCALENDAR
VERSION:2.0
PRODID:-//wp-events-plugin.com//7.2.3.1//EN
TZID:Europe/Berlin
X-WR-TIMEZONE:Europe/Berlin
BEGIN:VEVENT
UID:892@frauenportal.koeln
DTSTART;TZID=Europe/Berlin:20180513T180000
DTEND;TZID=Europe/Berlin:20180513T193000
DTSTAMP:20210228T085035Z
URL:https://frauenportal.koeln/veranstaltungen/regionaler-zeit-fuer-dich-f
 rauengottesdienst-2018-05-13-2/
SUMMARY:Von der Heiligkeit der Schöpfung - regionaler Zeit für Dich-Fraue
 ngottesdienst
DESCRIPTION:Menschen und Tiere wurden am gleichen Tag der Schöpfung erscha
 ffen. Ein guter Grund\, dass wir als Teil unserer Lebenswelt allen ihren u
 nterschiedlichsten Bestandteilen größte Wertschätzung entgegen bringen.
  Dieser Zeit-für-Dich-Frauengottesdienst mit Pastorin Anke Fuhr befasst s
 ich daher mit der Ehrfurcht vor dem gottgeschaffenen Leben\, die weltweit 
 durch die verantwortungslose Gier nach Profit abgelöst wurde. \n\nIm Ansc
 hluss gibt es Gelegenheit für Gespräche bei Fingerfood und Getränken. \
 n\nAllen interessierten Frauen bietet die Gottesdienst-Reihe "Zeit für Di
 ch" regelmäßig am 2. Sonntag des Monats die Möglichkeit\, sich am Abend
  eine Auszeit vom Alltag zu nehmen und Kraft zu schöpfen für die Anforde
 rungen des Lebens. Alle Texte\, Lieder und Gebete werden gestellt\, auch K
 irchenneulinge und Neugierige sind herzlich willkommen.\n\nVeranstalterin:
 \nZeit für dich – Gottesdienste von Frauen für Frauen\, \nein Angebot 
 der ev. Kirchengemeinde Buchheim-Buchforst\, www.ekibubu.de\n\nAnsprechpar
 tnerin:\nA. Mehren\, E-Mail: frauengottesdienst@kirche-koeln.de\nTel.: 02
 21 / 691888\, Ev. Gemeindebüro Buchheim-Buchforst\n\nVeranstaltungsort:\n
 Auferstehungskirche in Buchforst\, Kopernikusstr. 34\, 51065 Köln\, [map
  id=1027]
END:VEVENT
BEGIN:VTIMEZONE
TZID:Europe/Berlin
X-LIC-LOCATION:Europe/Berlin
BEGIN:DAYLIGHT
DTSTART:20180325T030000
TZOFFSETFROM:+0100
TZOFFSETTO:+0200
TZNAME:CEST
END:DAYLIGHT
END:VTIMEZONE
END:VCALENDAR