BEGIN:VCALENDAR
VERSION:2.0
PRODID:-//wp-events-plugin.com//7.2.3.1//EN
TZID:Europe/Berlin
X-WR-TIMEZONE:Europe/Berlin
BEGIN:VEVENT
UID:898@frauenportal.koeln
DTSTART;TZID=Europe/Berlin:20181111T180000
DTEND;TZID=Europe/Berlin:20181111T193000
DTSTAMP:20210228T084403Z
URL:https://frauenportal.koeln/veranstaltungen/regionaler-zeit-fuer-dich-f
 rauengottesdienst-2018-11-11/
SUMMARY:Regionaler Frauengottesdienst über das Totengedenken
DESCRIPTION:Der Umgang mit den Verstorbenen ist Mittelpunkt dieses regional
 en „Zeit für Dich“ - Frauengottesdienstes. Rizpas Söhne werden aus V
 ergeltung getötet. Ein Begräbnis wird ihnen versagt. Rizpa widersetzt si
 ch mit demonstrativem Schweigen. Fordert sie ein Recht auf Bestattung ein?
  Sucht sie die Anerkennung ihrer Trauer über den Tod ihrer einzigen Kinde
 r? Wann ist Schweigen nötig\, das lauter ist als jeder Schrei?\n\nIm Ansc
 hluss an den Gottesdienst mit Prädikantin Sigrid Halbe gibt es Gelegenhei
 t zu Gesprächen bei Getränken und Fingerfood.\n\nDie Frauengottesdienst-
 Reihe "Zeit für Dich" bietet regelmäßig allen interessierten Frauen die
  Möglichkeit\, sich am Sonntagabend eine Auszeit von den Anforderungen de
 s täglichen Lebens zu nehmen und Kraft zu schöpfen für die neue Woche.\
 n\nVeranstalterin:\nZeit für dich – Gottesdienste von Frauen für Fraue
 n\, \nein Angebot der ev. Kirchengemeinde Buchheim-Buchforst\, www.ekibubu
 .de\n\nAnsprechpartnerin:\nA. Mehren\, E-Mail: frauengottesdienst@kirche-
 koeln.de\nTel.: 0221 / 691888\, Ev. Gemeindebüro Buchheim-Buchforst\n\nVe
 ranstaltungsort:\nAuferstehungskirche in Buchforst\, Kopernikusstr. 34\, 5
 1065 Köln\, [map id=1027]
END:VEVENT
BEGIN:VTIMEZONE
TZID:Europe/Berlin
X-LIC-LOCATION:Europe/Berlin
BEGIN:STANDARD
DTSTART:20181028T020000
TZOFFSETFROM:+0200
TZOFFSETTO:+0100
TZNAME:CET
END:STANDARD
END:VTIMEZONE
END:VCALENDAR