BEGIN:VCALENDAR
VERSION:2.0
PRODID:-//wp-events-plugin.com//7.2.3.1//EN
TZID:Europe/Berlin
X-WR-TIMEZONE:Europe/Berlin
BEGIN:VEVENT
UID:3876@frauenportal.koeln
DTSTART;TZID=Europe/Berlin:20220924T190000
DTEND;TZID=Europe/Berlin:20220924T210000
DTSTAMP:20250502T083211Z
URL:https://frauenportal.koeln/veranstaltungen/resilienz-in-frauen-gemeins
 chaften/
SUMMARY:Resilienz in (Frauen)-Gemeinschaften
DESCRIPTION:Der BeginenSalon lädt ein:                                    
                                                                           
                                           Seminar: Resilienz in (Frauen)-G
 emeinschaften - Aus Krisen Lebensenergien gewinnen\n\nWir alle wünschen u
 ns\, dass in Gemeinschaft zu leben nicht nur sinnhaft ist\, sondern auch F
 reude macht. Im Alltag erleben wir allerdings die Prozesse des Sich-Verst
 ändigens oft als anstrengend. Warum? Es sammeln sich Konflikte\, kleinere
  oder größere Verletzungen an\, die nicht angesprochen bzw. ausgetragen 
 werden und so einen immer schwereren Rucksack bilden\, den wir hinter uns 
 herschleppen. Der Versuch\, dies auf der „Sachebene“ zu lösen - ganz 
 vernünftig - scheitert mit unschöner Regelmäßigkeit. Wie kann ein kons
 truktiver und positiver Umgang in diesen Situationen im Zusammensein und -
 leben umgesetzt werden? \n\nReferentin:\nKathleen Battke\, www.zukunftspio
 niere.com\n\nVeranstalterin:\nBeginen Köln e.V.\n\nAnsprechpartnerin:\nCh
 ristine Müthrath\, Tel.: 0221 / 9655820\, E-Mail: info@beginen.de\n\nKost
 en:\nKostenbeitrag: 18\,- € / 10\,- €. (Ermäßigte Beiträge gelten f
 ür Vereinsfrauen und Kölnpass-InhaberInnen)\nAnmeldungen bis 15.09.2022 
 unter: info@beginen.de\n\nVeranstaltungsort:\nBeginentreff im Beginenhof K
 öln\, Unter Linden 119\, 50859 Köln\, [map id=1048]
END:VEVENT
BEGIN:VTIMEZONE
TZID:Europe/Berlin
X-LIC-LOCATION:Europe/Berlin
BEGIN:DAYLIGHT
DTSTART:20220327T030000
TZOFFSETFROM:+0100
TZOFFSETTO:+0200
TZNAME:CEST
END:DAYLIGHT
END:VTIMEZONE
END:VCALENDAR