BEGIN:VCALENDAR
VERSION:2.0
PRODID:-//wp-events-plugin.com//7.2.3.1//EN
TZID:Europe/Berlin
X-WR-TIMEZONE:Europe/Berlin
BEGIN:VEVENT
UID:2074@frauenportal.koeln
DTSTART;TZID=Europe/Berlin:20190918T180000
DTEND;TZID=Europe/Berlin:20190918T200000
DTSTAMP:20190830T172716Z
URL:https://frauenportal.koeln/veranstaltungen/resilienz-in-gemeinschaft/
SUMMARY:Resilienz in Gemeinschaft
DESCRIPTION:- Aus Krisen Lebensenergie gewinnen -\n\nDas Leben in der Gemei
 nschaft soll nicht nur sinnhaft sein\, sondern auch Freude machen. Im Allt
 ag werden allerdings die Prozesse des Sich-Verständigens oft als anstreng
 end erlebt. An diesem Abend geht es um die Frage\, warum das so ist.\n\nGe
 meinschaften brauchen ein gutes\, gesundes Immunsystem. Wenn diese Robusth
 eit ohne Starre\, mit möglichst wenig Ausgrenzung oder hierarchischer Mac
 htverteilung auskommen will\, sind alle gefordert\, bewusst und beweglich 
 mitzuwirken. Zu lernen wäre\, Krisen zur Kräftigung der Gemeinschaft zu 
 nutzen.\n\nIn diesem kurzer Workshop werden Übungen aus der Resilienzfors
 chung und -praxis ausporbiert. So kann festgestellt werden\, was nützt\, 
 um die Lebensenergie einer Gemeinschaft zu bewahren\, zu schützen und –
  wo möglich – zu steigern.\n\nReferentin: Kathleen Battke\, www.zukunft
 spioniere.com\n\nVeranstalterin:\nBeginen Köln e.V.\n\nAnsprechpartnerin:
 \nChristine Müthrath\, Tel.: 0221 / 9655820\, E-Mail: info@beginen.de\n\n
 Kosten:\nKostenbeitrag: 12\,- € / 8\,- €\n(Ermäßigte Beiträge gelte
 n für Vereinsfrauen und Kölnpass-InhaberInnen)\n\nVeranstaltungsort:\nBe
 ginentreff im Beginenhof Köln\, Unter Linden 119\, 50859 Köln\, [map id=
 1048]
END:VEVENT
BEGIN:VTIMEZONE
TZID:Europe/Berlin
X-LIC-LOCATION:Europe/Berlin
BEGIN:DAYLIGHT
DTSTART:20190331T030000
TZOFFSETFROM:+0100
TZOFFSETTO:+0200
TZNAME:CEST
END:DAYLIGHT
END:VTIMEZONE
END:VCALENDAR