BEGIN:VCALENDAR
VERSION:2.0
PRODID:-//wp-events-plugin.com//7.2.3.1//EN
TZID:Europe/Berlin
X-WR-TIMEZONE:Europe/Berlin
BEGIN:VEVENT
UID:6137@frauenportal.koeln
DTSTART;TZID=Europe/Berlin:20260313T160000
DTEND;TZID=Europe/Berlin:20260313T180000
DTSTAMP:20260228T110622Z
URL:https://frauenportal.koeln/veranstaltungen/ressourcen-entdecken-innere
 -staerke-aktivieren/
SUMMARY:Ressourcen entdecken – innere Stärke aktivieren
DESCRIPTION:Was glaube ich über mich? Was macht mich aus und was gibt mir 
 Kraft?\nWelche - vielleicht auch noch unbekannten - Stärken schlummern in
  mir?\n\nMit einfachen\, erfahrungsorientierten Methoden werden persönlic
 he Kraftquellen gesammelt und nutzbar gemacht.\nDer Fokus liegt dabei auf 
 Selbstwahrnehmung und dem achtsamen Umgang mit sich selbst.\n\nIn diesem W
 orkshop stehen Frauen* und ihre Stärken im Vordergrund.\n\nLeitung: \nBia
 nca Marmagen\, Life Coach\n\nVeranstalterin:\nFrauenLeben e.V. Köln\, Fra
 uenberatungsstelle\n\nAnsprechpartnerin:\nMargret Schnetgöke\, Tel.: 0221
  / 954 16 60\, E-Mail: \n\nmail@frauenleben.org\n\nAmeldung / Kosten:\nDie
  Veranstaltung ist kostenfrei. Anmeldung erforderlich.
LOCATION:FrauenLeben\, Venloer Str. 405-407\, 50825 Köln
GEO:50.95189;6.91379
X-APPLE-STRUCTURED-LOCATION;VALUE=URI;X-ADDRESS=Venloer Str. 405-407\, Köl
 n\, 50825\, Frauenorganisation\, Deutschland;X-APPLE-RADIUS=100;X-TITLE=Fr
 auenLeben:geo:50.95189,6.91379
END:VEVENT
BEGIN:VTIMEZONE
TZID:Europe/Berlin
X-LIC-LOCATION:Europe/Berlin
BEGIN:STANDARD
DTSTART:20251026T020000
TZOFFSETFROM:+0200
TZOFFSETTO:+0100
TZNAME:CET
END:STANDARD
END:VTIMEZONE
END:VCALENDAR