BEGIN:VCALENDAR
VERSION:2.0
PRODID:-//wp-events-plugin.com//7.2.3.1//EN
TZID:Europe/Berlin
X-WR-TIMEZONE:Europe/Berlin
BEGIN:VEVENT
UID:2042@frauenportal.koeln
DTSTART;TZID=Europe/Berlin:20190807T190000
DTEND;TZID=Europe/Berlin:20190807T210000
DTSTAMP:20190731T195723Z
URL:https://frauenportal.koeln/veranstaltungen/ruck-zuck-gut-draufsein-nlp
 -info-workshop-3/
SUMMARY:Ruck-Zuck gut Draufsein – NLP-Info-Workshop
DESCRIPTION:Jenison Thomkins zu ihrem Angebot:\n\n"Ruck-Zuck gut Draufsein 
 - wie geht das?\n\nWie du in Kürze deine Stimmung verbessern kannst? NLP 
 bietet dir eine Fülle von effektiven Methoden\, die ich an diesem Abend z
 eige. Sind wir in einem guten State\, gelingt uns alles. Sind wir traurig\
 , müde\, gehetzt oder ängstlich\, schalten wir auf Notaggregat. Wie du n
 ach einem Schreck\, Ärger oder Frust schnell wieder ins Lot kommst\, zeig
 e ich dir mit NLP-Emotionsmanagement!\n\nKostenloser Info Workshop zu alle
 n Veranstaltungen im Atelier!\n\nFür alle NLP-Interessierten\, Practition
 er-\, Master- und 4D-Typologie-Teilnehmer*innen und Gäste ist dieser Aben
 d eine gute Gelegenheit\, sich über NLP\, meine Arbeit und alle deine Fra
 gen bezüglich der Ausbildungen und Bildungsurlaube der kommenden Zeit  zu
  informieren!\n\nWas geschieht beim NLP-Info-Workshop?\n\n    \n	Ankommen\
 , Kaffee und Tee trinken\n\n    	Trainer\, Assistent-Innen und andere nett
 e Menschen kennenlernen\n\n    	theoretische Einführung ins NLP-Thema\n\n
     	Praktische Übung mit persönlichem Feedback\n\n    	allgemeine Infos
  zu NLP und den aktuellen Ausbildungen und Workshops im Atelier für NLP&P
 ersönlichkeitsentwicklung"\n\n\nMehr Infos und Anmeldung bei Jenison Thom
 kins\, Atelier für NLP & Persönlichkeitsentwicklung
END:VEVENT
BEGIN:VTIMEZONE
TZID:Europe/Berlin
X-LIC-LOCATION:Europe/Berlin
BEGIN:DAYLIGHT
DTSTART:20190331T030000
TZOFFSETFROM:+0100
TZOFFSETTO:+0200
TZNAME:CEST
END:DAYLIGHT
END:VTIMEZONE
END:VCALENDAR