BEGIN:VCALENDAR
VERSION:2.0
PRODID:-//wp-events-plugin.com//7.2.3.1//EN
TZID:Europe/Berlin
X-WR-TIMEZONE:Europe/Berlin
BEGIN:VEVENT
UID:3893@frauenportal.koeln
DTSTART;TZID=Europe/Berlin:20221004T193000
DTEND;TZID=Europe/Berlin:20221004T210000
DTSTAMP:20220921T104311Z
URL:https://frauenportal.koeln/veranstaltungen/salon-gespraech-mit-nanette
 -snoep/
SUMMARY:Salon-Gespräch mit Nanette Snoep
DESCRIPTION:Nanette Snoep\, international profilierte Direktorin des Rauten
 strauch-Joest-Museums im Gespräch mit Michael Hirz.\nDie Anthropologin un
 d Kulturmanagerin Nanette Snoep leitet seit 2019 das Kölner Rautenstrauch
 -Joest-Museum. Die gebürtige Niederländerin ist aktiver Teil einer inter
 nationalen Kontroverse um Kolonialismus und Raubkunst\, die auch in Köln 
 mit zunehmender Heftigkeit diskutiert wird. Ihre couragierte Arbeit – vi
 elfach ausgezeichnet\, u.a. vom Vorstand des European Museums of the Year 
 Award – hat ihr viel Lob\, aber auch deutliche Kritik eingetragen. Was t
 reibt sie an\, was treibt sie um? Das soll dieser Abend im RheingoldSalon 
 klären.\n\nHier ist die Einladung: STARKE_FRAUEN Snoep (pdf-Datei\, 1 MB)
 \n\nVeranstaltende:\nFEMALE RESOURCES\, www.female-resources.koeln\nlönne
 ker & imdahl rheingold salon GmbH & Co KG\, www.rheingold-salon.de\nKölne
 r Presseclub e.V.\, www.koelner-presseclub.de \n\nAnsprechpartnerin:\nChri
 stine Kronenberg\, Tel.: 0221 / 97585850\, E-Mail: christine.kronenberg@fe
 male-resources.koeln\n\nKosten / Anmeldung:\nEinlass ab 19 Uhr. Verbindlic
 he Anmeldung unter info@koelner-presseclub.de\n\nVeranstaltungsort:\nrhein
 gold salon\, Hohe Straße 160-168\, 50667 Köln\, [map id=17527] 
END:VEVENT
BEGIN:VTIMEZONE
TZID:Europe/Berlin
X-LIC-LOCATION:Europe/Berlin
BEGIN:DAYLIGHT
DTSTART:20220327T030000
TZOFFSETFROM:+0100
TZOFFSETTO:+0200
TZNAME:CEST
END:DAYLIGHT
END:VTIMEZONE
END:VCALENDAR