BEGIN:VCALENDAR
VERSION:2.0
PRODID:-//wp-events-plugin.com//7.2.3.1//EN
TZID:Europe/Berlin
X-WR-TIMEZONE:Europe/Berlin
BEGIN:VEVENT
UID:288@frauenportal.koeln
DTSTART;TZID=Europe/Berlin:20170312T180000
DTEND;TZID=Europe/Berlin:20170312T193000
DTSTAMP:20170529T051635Z
URL:https://frauenportal.koeln/veranstaltungen/sara-unter-gottes-schirm-re
 gionaler-zeit-fuer-dich-frauengottesdienst-12-maerz-2017-sonntag/
SUMMARY:Sara unter Gottes Schirm - Regionaler Zeit für Dich-Frauengottesdi
 enst 
DESCRIPTION:\n          \n\n  Trifft bei Sara und Abraham Schönheit auf Se
 lbstsucht? Inwieweit Gott das Unheil sieht\, dass Sara durch ihren Ehemann
  widerfährt\, steht im Mittelpunkt dieses Zeit-für-Dich-Frauengottesdien
 stes unter Leitung von Prädikantin Sigrid Halbe.Im Anschluss gibt es Gele
 genheit zu Gesprächen bei Tee und Snacks.Die Frauengottesdienst-Reihe "Ze
 it für Dich" bietet regelmäßig am 2. Sonntag des Monats allen interessi
 erten Frauen die Möglichkeit\, sich am Sonntagabend eine Auszeit von den 
 Anforderungen des täglichen Lebens zu nehmen und Kraft zu schöpfen für 
 die neue Woche.Veranstalterin:Zeit für dich – Gottesdienste von Frauen 
 für Frauen\, \nein Angebot der ev. Kirchengemeinde Buchheim-Buchforst\, w
 ww.ekibubu.deAnsprechpartnerin:A. Mehren\, E-Mail: eval(decodeURIComponent
 ('%76%61%72%20%73%3D%27%72%66%75%61%6E%65%6F%67%74%74%73%65%69%64%6E%65%74
 %73%6B%40%72%69%68%63%2D%65%6F%6B%6C%65%2E%6E%65%64%27%3B%76%61%72%20%72%3
 D%27%27%3B%66%6F%72%28%76%61%72%20%69%3D%30%3B%69%3C%73%2E%6C%65%6E%67%74%
 68%3B%69%2B%2B%2C%69%2B%2B%29%7B%72%3D%72%2B%73%2E%73%75%62%73%74%72%69%6E
 %67%28%69%2B%31%2C%69%2B%32%29%2B%73%2E%73%75%62%73%74%72%69%6E%67%28%69%2
 C%69%2B%31%29%7D%64%6F%63%75%6D%65%6E%74%2E%77%72%69%74%65%28%27%3C%61%20%
 68%72%65%66%3D%22%6D%61%69%6C%74%6F%3A%27%2B%72%2B%27%22%3E%66%72%61%75%65
 %6E%67%6F%74%74%65%73%64%69%65%6E%73%74%40%6B%69%72%63%68%65%2D%6B%6F%65%6
 C%6E%2E%64%65%3C%2F%61%3E%27%29%3B'))Tel.: 0221 / 691888\,  Ev. Gemeindeb
 üro Buchheim-BuchforstVeranstaltungsort:Auferstehungskirche in Buchforst\
 , Kopernikusstr. 34\, 51065 Köln\, Lageplan
END:VEVENT
BEGIN:VTIMEZONE
TZID:Europe/Berlin
X-LIC-LOCATION:Europe/Berlin
BEGIN:STANDARD
DTSTART:20161030T020000
TZOFFSETFROM:+0200
TZOFFSETTO:+0100
TZNAME:CET
END:STANDARD
END:VTIMEZONE
END:VCALENDAR