BEGIN:VCALENDAR
VERSION:2.0
PRODID:-//wp-events-plugin.com//7.2.3.1//EN
TZID:Europe/Berlin
X-WR-TIMEZONE:Europe/Berlin
BEGIN:VEVENT
UID:1842@frauenportal.koeln
DTSTART;TZID=Europe/Berlin:20190315T170000
DTEND;TZID=Europe/Berlin:20190315T190000
DTSTAMP:20241115T084815Z
URL:https://frauenportal.koeln/veranstaltungen/sbu-party-zum-weltfrauentag
 /
SUMMARY:SBU-Party zum Weltfrauentag
DESCRIPTION:Aus der Einladung:\n\n"Seit 5 Jahren bereichert der SBU die Wir
 tschaftswelt mit seinem Netzwerk selbständiger Frauen und Freiberuflerinn
 en aus Brühl. Die Gemeinschaft setzt sich ein und gestaltet mit\, vernetz
 t sich\, tauscht sich aus\, stellt miteinander etwas auf die Beine.\n\nKom
 men Sie vorbei und feiern Sie mit uns unser 5 jähriges Bestehen mit Musik
  und konstruktiven Gesprächen. Ganz egal\, ob Therapeutinnen\, Coaches\, 
 Werbefachfrauen\, Steuerberaterinnen\, Rechtsanwältinnen\, Gastronominnen
 \, Einzelhändlerinnen u.v.m.: Der SBU hat viel zu bieten. \n\nProgramm Mo
 tto\n 'Lasst uns unser Business rocken'\n +\n Keynote zum Weltfrauentag\n 
 'herausragende Unternehmerinnen der Geschichte - die ihr Business gerockt 
 haben'\n+\n Musikalische Begleitung durch Nina Anders 'Musiklehrerin\, Mus
 ikerin\, Sängerin'\n +\n Austausch - Kennenlernen - Spaß haben\n +\n Spe
 ndensammlung für das Frauenhaus Rhein-Erft-Kreis e.V. im Rahmen der Fraue
 nprogrammwoche Brühl" \n\nZum Internationalen Weltfrauentag am 08. März 
 veranstaltet die Stadt Brühl die 3. Brühler Frauenprogrammwoche unter de
 m Slogan "Zeit für Frauen"\, hier ist das Programm: 6te Brühler Frauenwo
 che\, März 2019 (pdf-Datei\, 2 MB)\n\nVeranstalterin:\nStammtisch Brühle
 r Unternehmerinnen\n\nAnsprechpartnerin:\nMartina Kütter\, Tel.: 02235 / 
 9218882\, E-Mail: info@sbu-bruehl.de\n\nKosten / Anmeldung:\nEintritt frei
 \, Spende für Frauenhaus Rhein-Erft-Kreis e.V. erwünscht. \n\nVeranstalt
 ungsort:\nErste-Hilfe-Schule\, Böningergasse 21-25\, 50321 Brühl\, [map 
 id=1094]
END:VEVENT
BEGIN:VTIMEZONE
TZID:Europe/Berlin
X-LIC-LOCATION:Europe/Berlin
BEGIN:STANDARD
DTSTART:20181028T020000
TZOFFSETFROM:+0200
TZOFFSETTO:+0100
TZNAME:CET
END:STANDARD
END:VTIMEZONE
END:VCALENDAR