BEGIN:VCALENDAR
VERSION:2.0
PRODID:-//wp-events-plugin.com//7.2.3.1//EN
TZID:Europe/Berlin
X-WR-TIMEZONE:Europe/Berlin
BEGIN:VEVENT
UID:5687@frauenportal.koeln
DTSTART;TZID=Europe/Berlin:20250604T093000
DTEND;TZID=Europe/Berlin:20250604T110000
DTSTAMP:20250530T131729Z
URL:https://frauenportal.koeln/veranstaltungen/schlagfertigkeit-fuer-fraue
 n-2/
SUMMARY:Schlagfertigkeit für Frauen
DESCRIPTION:Gelassen reagieren - Clever kontern - Schwierige Gesprächssitu
 ationen elegant meistern!\n\nVerbale Angriffe tun weh. Ob es Vorwürfe\, u
 ngerechtfertigte Kritik\, Beleidigungen sind: diese gehen tief hinein. Oft
  erleben Frauen dabei einen Moment der Sprachlosigkeit.\n\nIn diesem Works
 hop zeigt die Stimm- und Sprechtrainerin\, Präsentationstrainerin und Spe
 akerin Anne Weller\, wie eine gute innere Haltung sich selbst gegenüber e
 ntwickelt werden kann und dass es in Ordnung ist zu reagieren. Dabei lerne
 n die Teilnehmerinnen auch\, wie sie mit Argumentationsgeschick nie mehr s
 prachlos sind.\n\nVeranstalterinnen:\nBeauftragte für Chancengleichheit a
 m Arbeitsmarkt (BCA) der Agentur für Arbeit Köln\nBCA des JobCenters Kö
 ln\, www.jobcenterkoeln.de/gleiche-chancen-im-job/\n\nAnsprechpartnerinnen
 :\nAgnes Metz\, Tel.: 0221 / 9429-5400\, E-Mail: Koeln.BCA@arbeitsagentur.
 de\nMeryem Demirtaş\, Tel.: 0221 / 9429 8300\, E-Mail: Jobcenter-Koeln.BC
 A@jobcenter-ge.de\n\nKosten / Anmeldung:\nDer Workshop findet online statt
  und ist kostenfrei.\nAnmeldung über: Koeln.BCA@arbeitsagentur.de  oder  
 Jobcenter-Koeln.BCA@jobcenter-ge.de\n\nVeranstaltungsort:\nonline
END:VEVENT
BEGIN:VTIMEZONE
TZID:Europe/Berlin
X-LIC-LOCATION:Europe/Berlin
BEGIN:DAYLIGHT
DTSTART:20250330T030000
TZOFFSETFROM:+0100
TZOFFSETTO:+0200
TZNAME:CEST
END:DAYLIGHT
END:VTIMEZONE
END:VCALENDAR