BEGIN:VCALENDAR
VERSION:2.0
PRODID:-//wp-events-plugin.com//7.2.3.1//EN
TZID:Europe/Berlin
X-WR-TIMEZONE:Europe/Berlin
BEGIN:VEVENT
UID:5370@frauenportal.koeln
DTSTART;TZID=Europe/Berlin:20241210T093000
DTEND;TZID=Europe/Berlin:20241210T110000
DTSTAMP:20241129T105546Z
URL:https://frauenportal.koeln/veranstaltungen/schlagfertigkeit-fuer-fraue
 n/
SUMMARY:Schlagfertigkeit für Frauen
DESCRIPTION:Gelassen reagieren - Clever kontern - Schwierige Gesprächssitu
 ationen elegant meistern!\n\nVerbale Angriffe tun weh. Ob es Vorwürfe\, u
 ngerechtfertigte Kritik\, Beleidigungen sind: diese gehen tief hinein. Oft
  erleben Frauen dabei einen Moment der Sprachlosigkeit.\n\nIn diesem Works
 hop zeigt die Stimm- und Sprechtrainerin\, Präsentationstrainerin und Spe
 akerin Anne Weller auf\, wie eine gute innere Haltung sich selbst gegenüb
 er entwickelt werden kann. Dabei lernen die Teilnehmerinnen auch\, wie sie
  mit Argumentationsgeschick nie mehr sprachlos sind.\n\nHier ist die Einla
 dung: Schlagfertigkeit_für_Frauen (pdf-Datei\, 798 KB)\n\nVeranstalterinn
 en:\nBeauftragte für Chancengleichheit am Arbeitsmarkt (BCA) der Agentur 
 für Arbeit Köln\nBCA des JobCenters Köln\, www.jobcenterkoeln.de/gleich
 e-chancen-im-job/\n\nAnsprechpartnerinnen:\nAgnes Metz\, Tel.: 0221 / 9429
 -5400\, E-Mail: Koeln.BCA@arbeitsagentur.de\nMeryem Demirtaş\, Tel.: 0221
  / 9429 8300\, E-Mail: Jobcenter-Koeln.BCA@jobcenter-ge.de\n\nKosten / Anm
 eldung:\nDer Workshop findet online statt und ist kostenfrei.\nAnmeldung 
 über: Koeln.BCA@arbeitsagentur.de  oder  Jobcenter-Koeln.BCA@jobcenter-ge
 .de\n\nVeranstaltungsort:\nonline
END:VEVENT
BEGIN:VTIMEZONE
TZID:Europe/Berlin
X-LIC-LOCATION:Europe/Berlin
BEGIN:STANDARD
DTSTART:20241027T020000
TZOFFSETFROM:+0200
TZOFFSETTO:+0100
TZNAME:CET
END:STANDARD
END:VTIMEZONE
END:VCALENDAR