BEGIN:VCALENDAR
VERSION:2.0
PRODID:-//wp-events-plugin.com//7.2.3.1//EN
TZID:Europe/Berlin
X-WR-TIMEZONE:Europe/Berlin
BEGIN:VEVENT
UID:560@frauenportal.koeln
DTSTART;TZID=Europe/Berlin:20171013T190000
DTEND;TZID=Europe/Berlin:20171013T210000
DTSTAMP:20170929T102134Z
URL:https://frauenportal.koeln/veranstaltungen/schlagfertigkeit-trainieren
 -nlp-info-workshop/
SUMMARY:Schlagfertigkeit trainieren – NLP-Info-Workshop
DESCRIPTION:- Schlagfertigkeit mit Fingerspitzengefühl - \n\nJenison Thomk
 ins zu ihrem Angebot:\n\n"‚Haben Sie keine Augen im Kopf?‘ ‚Nein\, d
 as sind Glasmurmeln!‘\n\nWas ist Schlagfertigkeit?\nIn unserer Definitio
 n kein bloßes Zurückschlagen! Ideal ist\, in sich zu ruhen\, sich nicht 
 ärgern zu lassen und aus der inneren Kraft eine Antwort finden\, die den 
 Angreifenden weder beleidigt noch gegen den Kopf stößt\, sondern humorvo
 ll\, witzig und überraschend ablenkt\, oder mit einer unerwarteten Wende 
 verblüfft.\n\nWarum braucht man Schlagfertigkeit?\n\nJemand sagt einen du
 mmen Spruch zu Ihnen und Sie stehen hilflos da\, mit `nem Kloß im Hals 
 – und im Nachhinein ärgern Sie sich\, dass Ihnen nichts zur Erwiderung 
 eingefallen ist.\nWie können Sie sich wehren und humorvoll Ihren eigenen 
 Standpunkt verteidigen?\n\nHaben Sie das Gefühl\, als ob Ihnen eine dahin
 geworfene Bemerkung eines Kollegen oder Familienmitglieds seit Jahren wie 
 ein Stachel im Fleisch sitzt?\nMöchten Sie einmal herzlich und befreit da
 rüber lachen können?\nDann fühlen Sie sich herzlich willkommen zu diese
 r Wortschmiede-Werkstatt! Ich habe ein 4 Schritte-Schlagfertigkeits-Progra
 mm entwickelt\, dass Ihnen Schritt für Schritt zu mehr Schlagfertigkeit v
 erhilft.\n\nWas geschieht beim NLP-Info-Workshop?\n\n\n	    Ankommen\, Tee
  trinken\n\n	    Trainer\, Assistent-Innen und andere nette Menschen kenne
 nlernen\n\n   	 theoretische Einführung ins NLP-Thema\n\n   	 Praktische 
 Übung mit persönlichem Feedback\n\n   	 allgemeine Infos zu NLP und den 
 aktuellen Ausbildungen und Workshops im Atelier für NLP&Persönlichkeitse
 ntwicklung\n\n\n\n\nKostenlos :-)"\n\nMehr Infos und Anmeldung bei Jenison
  Thomkins\, Atelier für NLP & Persönlichkeitsentwicklung
END:VEVENT
BEGIN:VTIMEZONE
TZID:Europe/Berlin
X-LIC-LOCATION:Europe/Berlin
BEGIN:DAYLIGHT
DTSTART:20170326T030000
TZOFFSETFROM:+0100
TZOFFSETTO:+0200
TZNAME:CEST
END:DAYLIGHT
END:VTIMEZONE
END:VCALENDAR