BEGIN:VCALENDAR
VERSION:2.0
PRODID:-//wp-events-plugin.com//7.2.3.1//EN
TZID:Europe/Berlin
X-WR-TIMEZONE:Europe/Berlin
BEGIN:VEVENT
UID:2077@frauenportal.koeln
DTSTART;TZID=Europe/Berlin:20190918T190000
DTEND;TZID=Europe/Berlin:20190918T210000
DTSTAMP:20190830T175931Z
URL:https://frauenportal.koeln/veranstaltungen/schlagfertigkeits-training-
 mit-fingerspitzengefuehl-nlp-info-workshop-2/
SUMMARY:Schlagfertigkeits-Training mit Fingerspitzengefühl – NLP-Info-Wo
 rkshop
DESCRIPTION:Jenison Thomkins zu ihrem Angebot:\n\n"‚Haben Sie keine Augen
  im Kopf?‘ ‚Nein\, das sind Glasmurmeln!‘\n\nDas ist Schlagfertigkei
 t! In unserer Definition kein bloßes Zurückschlagen\, sondern humorvolle
 \, intelligente Kommunikation. Wenn Sie bei unfairen Angriffen sich nicht 
 ärgern und aus der inneren Kraft heraus eine Antwort finden wollen\, die 
 den Angreifenden weder beleidigt noch gegen den Kopf stößt\, dann kommen
  Sie zu dieser Wortschmiede-Werkstatt.\n\nKostenloser Info Workshop zu all
 en Veranstaltungen im Atelier!\n\nFür alle Practitioner-\, Master- und 4D
 -Typologie-Interessierten ist dieser Abend eine gute Gelegenheit\, sich ü
 ber meine Arbeit und alle anderen Fragen bezüglich der Ausbildungen und B
 ildungsurlaube der kommenden Zeit  zu informieren!\n\nWas geschieht beim N
 LP-Info-Workshop?\n\n    \n	Ankommen\, Kaffee und Tee trinken\n\n    	Trai
 ner\, Assistent-Innen und andere nette Menschen kennenlernen\n\n    	theor
 etische Einführung ins NLP-Thema\n\n    	Praktische Übung mit persönlic
 hem Feedback\n\n    	allgemeine Infos zu NLP und den aktuellen Ausbildunge
 n und Workshops im Atelier für NLP&Persönlichkeitsentwicklung"\n\n\nMehr
  Infos und Anmeldung bei Jenison Thomkins\, Atelier für NLP & Persönlich
 keitsentwicklung
END:VEVENT
BEGIN:VTIMEZONE
TZID:Europe/Berlin
X-LIC-LOCATION:Europe/Berlin
BEGIN:DAYLIGHT
DTSTART:20190331T030000
TZOFFSETFROM:+0100
TZOFFSETTO:+0200
TZNAME:CEST
END:DAYLIGHT
END:VTIMEZONE
END:VCALENDAR