BEGIN:VCALENDAR
VERSION:2.0
PRODID:-//wp-events-plugin.com//7.2.3.1//EN
TZID:Europe/Berlin
X-WR-TIMEZONE:Europe/Berlin
BEGIN:VEVENT
UID:5772@frauenportal.koeln
DTSTART;TZID=Europe/Berlin:20250913T141500
DTEND;TZID=Europe/Berlin:20250913T163000
DTSTAMP:20250829T113236Z
URL:https://frauenportal.koeln/veranstaltungen/schlummere-sanft-teure-frau
 -6/
SUMMARY:Schlummere sanft teure Frau
DESCRIPTION:Frauen auf dem Friedhof Melaten\n\nMelaten ist ein aufgeschlage
 nes Geschichtsbuch\, das das Rollenverständnis des 19. Jh. und die Rolle 
 der Frau als Trauernde sichtbar macht. Der Spaziergang führt u.a. zu Laur
 a von Oelbermann\, deren Reichtum in Köln sprichwörtlich war\, zum „zw
 eiten weiblichen Museumsdirektor von Deutschland“ sowie zur Klosterfrau\
 , die ihren berühmten Melissengeist erfolgreich vermarktete. Auch die fr
 ühere Funktion des Friedhofs als  Siechenhaus für Leprakranke und Verän
 derungen in der aktuelle Bestattungskultur kommen zur Sprache.\n\nVeransta
 lterin:\nKölner Frauengeschichtsverein e.V.\n\nKontakt:\nTel.: 0221 / 24 
 82 65\, E-Mail: info@frauengeschichtsverein.de\n\nKosten / Anmeldung:\nKos
 tenbeitrag: 12 Euro\, Ticket: www.qultor.de\n\nVeranstaltungsort:\nTreffpu
 nkt: 14.15 Uhr am Haupteingang Friedhof Melaten (gegenüber Aachener Str. 
 251)
LOCATION:Haupteingang Friedhof Melaten\, Aachener Str. 249\, 50931 Köln
GEO:50.93680986;6.91889763
X-APPLE-STRUCTURED-LOCATION;VALUE=URI;X-ADDRESS=Aachener Str. 249\, Köln\,
  50931\, Veranstaltungsort\, Deutschland;X-APPLE-RADIUS=100;X-TITLE=Haupte
 ingang Friedhof Melaten:geo:50.93680986,6.91889763
END:VEVENT
BEGIN:VTIMEZONE
TZID:Europe/Berlin
X-LIC-LOCATION:Europe/Berlin
BEGIN:DAYLIGHT
DTSTART:20250330T030000
TZOFFSETFROM:+0100
TZOFFSETTO:+0200
TZNAME:CEST
END:DAYLIGHT
END:VTIMEZONE
END:VCALENDAR